BEGIN:VCALENDAR
VERSION:2.0
PRODID:-// - ECPv6.15.20//NONSGML v1.0//EN
CALSCALE:GREGORIAN
METHOD:PUBLISH
X-ORIGINAL-URL:https://meditationinsantabarbara.org
X-WR-CALDESC:Events for 
REFRESH-INTERVAL;VALUE=DURATION:PT1H
X-Robots-Tag:noindex
X-PUBLISHED-TTL:PT1H
BEGIN:VTIMEZONE
TZID:America/Los_Angeles
BEGIN:DAYLIGHT
TZOFFSETFROM:-0800
TZOFFSETTO:-0700
TZNAME:PDT
DTSTART:20190310T100000
END:DAYLIGHT
BEGIN:STANDARD
TZOFFSETFROM:-0700
TZOFFSETTO:-0800
TZNAME:PST
DTSTART:20191103T090000
END:STANDARD
BEGIN:DAYLIGHT
TZOFFSETFROM:-0800
TZOFFSETTO:-0700
TZNAME:PDT
DTSTART:20200308T100000
END:DAYLIGHT
BEGIN:STANDARD
TZOFFSETFROM:-0700
TZOFFSETTO:-0800
TZNAME:PST
DTSTART:20201101T090000
END:STANDARD
BEGIN:DAYLIGHT
TZOFFSETFROM:-0800
TZOFFSETTO:-0700
TZNAME:PDT
DTSTART:20210314T100000
END:DAYLIGHT
BEGIN:STANDARD
TZOFFSETFROM:-0700
TZOFFSETTO:-0800
TZNAME:PST
DTSTART:20211107T090000
END:STANDARD
END:VTIMEZONE
BEGIN:VEVENT
DTSTART;TZID=America/Los_Angeles:20200125T183000
DTEND;TZID=America/Los_Angeles:20200125T203000
DTSTAMP:20260424T153739
CREATED:20191203T232910Z
LAST-MODIFIED:20191203T233105Z
UID:10000143-1579977000-1579984200@meditationinsantabarbara.org
SUMMARY:Detox the Mind w/ Gen Rigpa (Thousand Oaks)
DESCRIPTION:Location: \nTHE THOUSAND OAKS CIVIC ARTS PLAZA\n2100 E. Thousand Oaks Blvd.\nThousand Oaks\, CA 91362 \nTime:\nSaturday\, January 25th\n6:30pm – 8:30pm \nCost:\nStarting at $30 \nWho is Gen Kelsang Rigpa?\nGen Kelsang Rigpa is an American Buddhist monk\, the Western US National Spiritual Director of the New Kadampa Tradition\, and resident teacher at Kadampa Meditation Center in Hollywood\, CA. Gen Rigpa has been studying and practicing Buddhism for almost two decades. He teaches classes\, workshops\, and leads retreats all over the country. \n  \nPlease click HERE for info and registration!
URL:https://meditationinsantabarbara.org/event/detox-the-mind-w-gen-rigpa-thousand-oaks/
LOCATION:Fred Kavli Theatre – B of A Performing Arts Center\, 2100 E. Thousand Oaks Blvd.\, Thousand Oaks\,\, CA\, 91362\, United States
CATEGORIES:Public
END:VEVENT
END:VCALENDAR