BEGIN:VCALENDAR
VERSION:2.0
PRODID:-// - ECPv6.15.20//NONSGML v1.0//EN
CALSCALE:GREGORIAN
METHOD:PUBLISH
X-ORIGINAL-URL:https://meditationinsantabarbara.org
X-WR-CALDESC:Events for 
REFRESH-INTERVAL;VALUE=DURATION:PT1H
X-Robots-Tag:noindex
X-PUBLISHED-TTL:PT1H
BEGIN:VTIMEZONE
TZID:America/Los_Angeles
BEGIN:DAYLIGHT
TZOFFSETFROM:-0800
TZOFFSETTO:-0700
TZNAME:PDT
DTSTART:20200308T100000
END:DAYLIGHT
BEGIN:STANDARD
TZOFFSETFROM:-0700
TZOFFSETTO:-0800
TZNAME:PST
DTSTART:20201101T090000
END:STANDARD
BEGIN:DAYLIGHT
TZOFFSETFROM:-0800
TZOFFSETTO:-0700
TZNAME:PDT
DTSTART:20210314T100000
END:DAYLIGHT
BEGIN:STANDARD
TZOFFSETFROM:-0700
TZOFFSETTO:-0800
TZNAME:PST
DTSTART:20211107T090000
END:STANDARD
BEGIN:DAYLIGHT
TZOFFSETFROM:-0800
TZOFFSETTO:-0700
TZNAME:PDT
DTSTART:20220313T100000
END:DAYLIGHT
BEGIN:STANDARD
TZOFFSETFROM:-0700
TZOFFSETTO:-0800
TZNAME:PST
DTSTART:20221106T090000
END:STANDARD
BEGIN:DAYLIGHT
TZOFFSETFROM:-0800
TZOFFSETTO:-0700
TZNAME:PDT
DTSTART:20230312T100000
END:DAYLIGHT
BEGIN:STANDARD
TZOFFSETFROM:-0700
TZOFFSETTO:-0800
TZNAME:PST
DTSTART:20231105T090000
END:STANDARD
BEGIN:DAYLIGHT
TZOFFSETFROM:-0800
TZOFFSETTO:-0700
TZNAME:PDT
DTSTART:20240310T100000
END:DAYLIGHT
BEGIN:STANDARD
TZOFFSETFROM:-0700
TZOFFSETTO:-0800
TZNAME:PST
DTSTART:20241103T090000
END:STANDARD
BEGIN:DAYLIGHT
TZOFFSETFROM:-0800
TZOFFSETTO:-0700
TZNAME:PDT
DTSTART:20250309T100000
END:DAYLIGHT
BEGIN:STANDARD
TZOFFSETFROM:-0700
TZOFFSETTO:-0800
TZNAME:PST
DTSTART:20251102T090000
END:STANDARD
BEGIN:DAYLIGHT
TZOFFSETFROM:-0800
TZOFFSETTO:-0700
TZNAME:PDT
DTSTART:20260308T100000
END:DAYLIGHT
BEGIN:STANDARD
TZOFFSETFROM:-0700
TZOFFSETTO:-0800
TZNAME:PST
DTSTART:20261101T090000
END:STANDARD
END:VTIMEZONE
BEGIN:VEVENT
DTSTART;TZID=America/Los_Angeles:20251205T190000
DTEND;TZID=America/Los_Angeles:20251207T123000
DTSTAMP:20260423T233853
CREATED:20251110T192634Z
LAST-MODIFIED:20251110T194011Z
UID:10004141-1764961200-1765110600@meditationinsantabarbara.org
SUMMARY:Vajrasattva Empowerment in Los Angeles
DESCRIPTION:With Gen-la Jampa at Kadampa Meditation Center Los Angeles
URL:https://meditationinsantabarbara.org/event/vajrasattva-empowerment-in-los-angeles/
LOCATION:Kadampa Meditation Center Los Angeles\, 4953 Franklin Ave.\, Los Angeles\, CA\, 90027\, United States
CATEGORIES:Public
ORGANIZER;CN="Kadampa Meditation Center Los Angeles":MAILTO:info@meditateinhollywood.org
GEO:34.1055968;-118.2975745
X-APPLE-STRUCTURED-LOCATION;VALUE=URI;X-ADDRESS=Kadampa Meditation Center Los Angeles 4953 Franklin Ave. Los Angeles CA 90027 United States;X-APPLE-RADIUS=500;X-TITLE=4953 Franklin Ave.:geo:-118.2975745,34.1055968
END:VEVENT
BEGIN:VEVENT
DTSTART;TZID=America/Los_Angeles:20230310T193000
DTEND;TZID=America/Los_Angeles:20230312T160000
DTSTAMP:20260423T233853
CREATED:20221219T232330Z
LAST-MODIFIED:20221219T232330Z
UID:10002286-1678476600-1678636800@meditationinsantabarbara.org
SUMMARY:California Dharma Celebration at KMC Los Angeles
DESCRIPTION:Save the Date!
URL:https://meditationinsantabarbara.org/event/california-dharma-celebration-at-kmc-los-angeles/
LOCATION:Kadampa Meditation Center Los Angeles\, 4953 Franklin Ave.\, Los Angeles\, CA\, 90027\, United States
ORGANIZER;CN="Kadampa Meditation Center Los Angeles":MAILTO:info@meditateinhollywood.org
GEO:34.1055968;-118.2975745
X-APPLE-STRUCTURED-LOCATION;VALUE=URI;X-ADDRESS=Kadampa Meditation Center Los Angeles 4953 Franklin Ave. Los Angeles CA 90027 United States;X-APPLE-RADIUS=500;X-TITLE=4953 Franklin Ave.:geo:-118.2975745,34.1055968
END:VEVENT
BEGIN:VEVENT
DTSTART;TZID=America/Los_Angeles:20220325T190000
DTEND;TZID=America/Los_Angeles:20220327T170000
DTSTAMP:20260423T233853
CREATED:20220210T050324Z
LAST-MODIFIED:20220210T051703Z
UID:10001975-1648234800-1648400400@meditationinsantabarbara.org
SUMMARY:California Dharma Celebration at KMC LA
DESCRIPTION:  \n \n 
URL:https://meditationinsantabarbara.org/event/california-dharma-celebration-at-kmc-la-2/
LOCATION:Kadampa Meditation Center Los Angeles\, 4953 Franklin Ave.\, Los Angeles\, CA\, 90027\, United States
ORGANIZER;CN="Kadampa Meditation Center Los Angeles":MAILTO:info@meditateinhollywood.org
GEO:34.1055968;-118.2975745
X-APPLE-STRUCTURED-LOCATION;VALUE=URI;X-ADDRESS=Kadampa Meditation Center Los Angeles 4953 Franklin Ave. Los Angeles CA 90027 United States;X-APPLE-RADIUS=500;X-TITLE=4953 Franklin Ave.:geo:-118.2975745,34.1055968
END:VEVENT
BEGIN:VEVENT
DTSTART;TZID=America/Los_Angeles:20210910T193000
DTEND;TZID=America/Los_Angeles:20210912T193000
DTSTAMP:20260423T233853
CREATED:20210717T233306Z
LAST-MODIFIED:20210821T235748Z
UID:10000527-1631302200-1631475000@meditationinsantabarbara.org
SUMMARY:California Dharma Celebration at KMC LA and ONLINE
DESCRIPTION:
URL:https://meditationinsantabarbara.org/event/california-dharma-celebration-at-kmc-la/
LOCATION:Kadampa Meditation Center Los Angeles\, 4953 Franklin Ave.\, Los Angeles\, CA\, 90027\, United States
CATEGORIES:Public
ORGANIZER;CN="Kadampa Meditation Center Los Angeles":MAILTO:info@meditateinhollywood.org
GEO:34.1055968;-118.2975745
X-APPLE-STRUCTURED-LOCATION;VALUE=URI;X-ADDRESS=Kadampa Meditation Center Los Angeles 4953 Franklin Ave. Los Angeles CA 90027 United States;X-APPLE-RADIUS=500;X-TITLE=4953 Franklin Ave.:geo:-118.2975745,34.1055968
END:VEVENT
BEGIN:VEVENT
DTSTART;TZID=America/Los_Angeles:20210415T064500
DTEND;TZID=America/Los_Angeles:20210415T163000
DTSTAMP:20260423T233853
CREATED:20210224T225812Z
LAST-MODIFIED:20210320T232738Z
UID:10001022-1618469100-1618504200@meditationinsantabarbara.org
SUMMARY:Nyungne: Celebrating Buddha's Enlightenment Day
DESCRIPTION:Buddha’s Enlightenment Day is celebrated with special ritual prayers on April 14 and 15. This year we will be joining in with the livestream of Kadampa Meditation Center Los Angeles for Nyungne. Please visit their site for info HERE. \nWednesday\, April 14th\n6:45-7:30am Precepts\n7:45-9:15am Session 1\n10:30am-12pm Session 2\n1:30-2:30pm Heart Jewel Puja — Click here to join Heart Jewel\n3:00-4:30pm Session 3 \nThursday\, April 15\n6:45am – 7:30am Precepts\n7:45-9:15am Session 1\n10:30am – 12pm Session 2\n1:30-3pm Session 3\n3:45-5:15pm OSG — Click here to join Offering to the Spiritual Guide Puja
URL:https://meditationinsantabarbara.org/event/celebrating-buddhas-enlightenment-day/2021-04-15/
CATEGORIES:Chanted Prayers,Public
ORGANIZER;CN="Kadampa Meditation Center Los Angeles":MAILTO:info@meditateinhollywood.org
END:VEVENT
BEGIN:VEVENT
DTSTART;TZID=America/Los_Angeles:20210414T064500
DTEND;TZID=America/Los_Angeles:20210414T163000
DTSTAMP:20260423T233853
CREATED:20210224T225812Z
LAST-MODIFIED:20210320T232738Z
UID:10001021-1618382700-1618417800@meditationinsantabarbara.org
SUMMARY:Nyungne: Celebrating Buddha's Enlightenment Day
DESCRIPTION:Buddha’s Enlightenment Day is celebrated with special ritual prayers on April 14 and 15. This year we will be joining in with the livestream of Kadampa Meditation Center Los Angeles for Nyungne. Please visit their site for info HERE. \nWednesday\, April 14th\n6:45-7:30am Precepts\n7:45-9:15am Session 1\n10:30am-12pm Session 2\n1:30-2:30pm Heart Jewel Puja — Click here to join Heart Jewel\n3:00-4:30pm Session 3 \nThursday\, April 15\n6:45am – 7:30am Precepts\n7:45-9:15am Session 1\n10:30am – 12pm Session 2\n1:30-3pm Session 3\n3:45-5:15pm OSG — Click here to join Offering to the Spiritual Guide Puja
URL:https://meditationinsantabarbara.org/event/celebrating-buddhas-enlightenment-day/2021-04-14/
CATEGORIES:Chanted Prayers,Public
ORGANIZER;CN="Kadampa Meditation Center Los Angeles":MAILTO:info@meditateinhollywood.org
END:VEVENT
END:VCALENDAR