BEGIN:VCALENDAR
VERSION:2.0
PRODID:-// - ECPv6.15.20//NONSGML v1.0//EN
CALSCALE:GREGORIAN
METHOD:PUBLISH
X-ORIGINAL-URL:https://meditationinsantabarbara.org
X-WR-CALDESC:Events for 
REFRESH-INTERVAL;VALUE=DURATION:PT1H
X-Robots-Tag:noindex
X-PUBLISHED-TTL:PT1H
BEGIN:VTIMEZONE
TZID:America/Los_Angeles
BEGIN:DAYLIGHT
TZOFFSETFROM:-0800
TZOFFSETTO:-0700
TZNAME:PDT
DTSTART:20250309T100000
END:DAYLIGHT
BEGIN:STANDARD
TZOFFSETFROM:-0700
TZOFFSETTO:-0800
TZNAME:PST
DTSTART:20251102T090000
END:STANDARD
BEGIN:DAYLIGHT
TZOFFSETFROM:-0800
TZOFFSETTO:-0700
TZNAME:PDT
DTSTART:20260308T100000
END:DAYLIGHT
BEGIN:STANDARD
TZOFFSETFROM:-0700
TZOFFSETTO:-0800
TZNAME:PST
DTSTART:20261101T090000
END:STANDARD
BEGIN:DAYLIGHT
TZOFFSETFROM:-0800
TZOFFSETTO:-0700
TZNAME:PDT
DTSTART:20270314T100000
END:DAYLIGHT
BEGIN:STANDARD
TZOFFSETFROM:-0700
TZOFFSETTO:-0800
TZNAME:PST
DTSTART:20271107T090000
END:STANDARD
END:VTIMEZONE
BEGIN:VEVENT
DTSTART;TZID=America/Los_Angeles:20260322T100000
DTEND;TZID=America/Los_Angeles:20260322T110000
DTSTAMP:20260423T122016
CREATED:20260120T144756Z
LAST-MODIFIED:20260303T041741Z
UID:10004821-1774173600-1774177200@meditationinsantabarbara.org
SUMMARY:Powa Prayers
DESCRIPTION:Through practicing transference of consciousness\, known as powa\, with faith\, compassion\, and concentration we can transfer the consciousness of those recently deceased to a higher rebirth or to the Pure Land of a Buddha. The Powa Ceremony can be done either by a group of practitioners or individually on behalf of one or more deceased persons\, or countless deceased beings. By engaging in this practice we also create a great collection of virtue\, which will also lead us into the pathway to a Buddha’s Pure Land. \nAll chanted prayers are free.
URL:https://meditationinsantabarbara.org/event/powa-prayers-16/2026-03-22/
LOCATION:Mahakankala Kadampa Buddhist Center\, 1825 State Street Suite 202\, Santa Barbara\, CA\, 93101\, United States
CATEGORIES:Chanted Prayers,Public
GEO:34.4294947;-119.7132928
X-APPLE-STRUCTURED-LOCATION;VALUE=URI;X-ADDRESS=Mahakankala Kadampa Buddhist Center 1825 State Street Suite 202 Santa Barbara CA 93101 United States;X-APPLE-RADIUS=500;X-TITLE=1825 State Street Suite 202:geo:-119.7132928,34.4294947
END:VEVENT
BEGIN:VEVENT
DTSTART;TZID=America/Los_Angeles:20260322T110000
DTEND;TZID=America/Los_Angeles:20260322T120000
DTSTAMP:20260423T122017
CREATED:20260120T145629Z
LAST-MODIFIED:20260303T041314Z
UID:10004620-1774177200-1774180800@meditationinsantabarbara.org
SUMMARY:Sunday Morning Meditation Class
DESCRIPTION:Each Sunday morning class begins with a guided breathing meditation and Dharma talk\, and culminates with a second meditation based upon the morning’s topic. Perfect for beginners or those with meditation experience. Open to everyone. \nPlease arrive a few minutes early to settle.
URL:https://meditationinsantabarbara.org/event/sunday-morning-meditation-class-10/2026-03-22/
LOCATION:Mahakankala Kadampa Buddhist Center\, 1825 State Street Suite 202\, Santa Barbara\, CA\, 93101\, United States
CATEGORIES:Public
GEO:34.4294947;-119.7132928
X-APPLE-STRUCTURED-LOCATION;VALUE=URI;X-ADDRESS=Mahakankala Kadampa Buddhist Center 1825 State Street Suite 202 Santa Barbara CA 93101 United States;X-APPLE-RADIUS=500;X-TITLE=1825 State Street Suite 202:geo:-119.7132928,34.4294947
END:VEVENT
BEGIN:VEVENT
DTSTART;TZID=America/Los_Angeles:20260322T133000
DTEND;TZID=America/Los_Angeles:20260322T153000
DTSTAMP:20260423T122017
CREATED:20260120T151253Z
LAST-MODIFIED:20260303T041941Z
UID:10004780-1774186200-1774193400@meditationinsantabarbara.org
SUMMARY:Foundation Program
DESCRIPTION:“Everyone\, whether religious or non-religious\, is looking for happiness all the time and wants to be free from problems and suffering permanently. We can fulfill these wishes through understanding and practicing the instructions given in this book.” – Venerable Geshe Kelsang Gyatso \nThis Class is by enrollment only
URL:https://meditationinsantabarbara.org/event/foundation-program-6/2026-03-22/
LOCATION:Mahakankala Kadampa Buddhist Center\, 1825 State Street Suite 202\, Santa Barbara\, CA\, 93101\, United States
CATEGORIES:Public
GEO:34.4294947;-119.7132928
X-APPLE-STRUCTURED-LOCATION;VALUE=URI;X-ADDRESS=Mahakankala Kadampa Buddhist Center 1825 State Street Suite 202 Santa Barbara CA 93101 United States;X-APPLE-RADIUS=500;X-TITLE=1825 State Street Suite 202:geo:-119.7132928,34.4294947
END:VEVENT
END:VCALENDAR