BEGIN:VCALENDAR
VERSION:2.0
PRODID:-// - ECPv6.15.20//NONSGML v1.0//EN
CALSCALE:GREGORIAN
METHOD:PUBLISH
X-ORIGINAL-URL:https://meditationinsantabarbara.org
X-WR-CALDESC:Events for 
REFRESH-INTERVAL;VALUE=DURATION:PT1H
X-Robots-Tag:noindex
X-PUBLISHED-TTL:PT1H
BEGIN:VTIMEZONE
TZID:America/Los_Angeles
BEGIN:DAYLIGHT
TZOFFSETFROM:-0800
TZOFFSETTO:-0700
TZNAME:PDT
DTSTART:20250309T100000
END:DAYLIGHT
BEGIN:STANDARD
TZOFFSETFROM:-0700
TZOFFSETTO:-0800
TZNAME:PST
DTSTART:20251102T090000
END:STANDARD
BEGIN:DAYLIGHT
TZOFFSETFROM:-0800
TZOFFSETTO:-0700
TZNAME:PDT
DTSTART:20260308T100000
END:DAYLIGHT
BEGIN:STANDARD
TZOFFSETFROM:-0700
TZOFFSETTO:-0800
TZNAME:PST
DTSTART:20261101T090000
END:STANDARD
BEGIN:DAYLIGHT
TZOFFSETFROM:-0800
TZOFFSETTO:-0700
TZNAME:PDT
DTSTART:20270314T100000
END:DAYLIGHT
BEGIN:STANDARD
TZOFFSETFROM:-0700
TZOFFSETTO:-0800
TZNAME:PST
DTSTART:20271107T090000
END:STANDARD
END:VTIMEZONE
BEGIN:VEVENT
DTSTART;TZID=America/Los_Angeles:20260103T150000
DTEND;TZID=America/Los_Angeles:20260104T170000
DTSTAMP:20260423T174122
CREATED:20250419T234307Z
LAST-MODIFIED:20260103T001553Z
UID:10003804-1767452400-1767546000@meditationinsantabarbara.org
SUMMARY:Amitayus Day-Retreat
DESCRIPTION:This annual weekend retreat is an opportunity to focus on the meditation practice of Amitayus\, the Buddha of Immeasurable Life\, which is a special method for increasing our lifespan\, wisdom and merit. The greatest obstacles to the fulfillment of our wish to experience pure happiness are death and ignorance. Death destroys our opportunity to take the essence of our precious human life\, and ignorance destroys our opportunity to develop a pure experience of Dharma. To overcome these obstacles\, we need to increase our lifespan and our wisdom\, and the principal method for doing this is the yoga of Buddha Amitayus\, which is also a special method for increasing the positive power of our mind\, or merit. \nPrayers for this practice can be purchased in our bookstore or in a downloadable format HERE. \nSaturday Retreat Schedule\nIntroduction to the Retreat: 3-4:15pm with Christian Gauthier\nSession 1: 4:45-6pm\nSunday Retreat Schedule: \nSession 2: 9-10:15 am (guided session)\nSession 3:  11 am-12 pm Sunday Meditation Class with Christian Gauthier\nSession 4:  1:45-3 pm (guided session)\nSession 5:  3:45-5 pm (guided session) \nMember benefits apply.
URL:https://meditationinsantabarbara.org/event/amitayus-day-retreat-4/
LOCATION:Mahakankala Kadampa Buddhist Center\, 1825 State Street Suite 202\, Santa Barbara\, CA\, 93101\, United States
CATEGORIES:Public
GEO:34.4294947;-119.7132928
X-APPLE-STRUCTURED-LOCATION;VALUE=URI;X-ADDRESS=Mahakankala Kadampa Buddhist Center 1825 State Street Suite 202 Santa Barbara CA 93101 United States;X-APPLE-RADIUS=500;X-TITLE=1825 State Street Suite 202:geo:-119.7132928,34.4294947
END:VEVENT
BEGIN:VEVENT
DTSTART;TZID=America/Los_Angeles:20260104T110000
DTEND;TZID=America/Los_Angeles:20260104T120000
DTSTAMP:20260423T174122
CREATED:20251223T192212Z
LAST-MODIFIED:20251223T192300Z
UID:10004249-1767524400-1767528000@meditationinsantabarbara.org
SUMMARY:Sunday Morning Meditation Class
DESCRIPTION:January Series: Finding Opportunity in Adversity \nIn this series we will learn how to transform adversity into the path can help reduce anxiety and lead to inner protection through spiritual experience. By gaining familiarity with this practice\, we can eventually become fearless like bodhisattvas\, whose main concern is for the welfare of others. \nEach Sunday morning class begins with a guided breathing meditation and Dharma talk\, and culminates with a second meditation based upon the morning’s topic. Perfect for beginners or those with meditation experience. Open to everyone. \nPlease arrive a few minutes early to settle. \nTopics in January\nJanuary 4th Distinguishing Inner and Outer Problems\nSeptember 3\nJanuary 11th Adversity Encourages us to Purifying Negative Karma\nJanuary 18th Adversity Encourages us to Seek Liberation\nJanuary 25th Aversity Encourages us to Develop Compassion
URL:https://meditationinsantabarbara.org/event/sunday-morning-meditation-class-9-2/2026-01-04/
LOCATION:Mahakankala Kadampa Buddhist Center\, 1825 State Street Suite 202\, Santa Barbara\, CA\, 93101\, United States
CATEGORIES:Public
ATTACH;FMTTYPE=image/png:https://meditationinsantabarbara.org/wp-content/uploads/2025/12/16x9-Thumbnail-15.png
GEO:34.4294947;-119.7132928
X-APPLE-STRUCTURED-LOCATION;VALUE=URI;X-ADDRESS=Mahakankala Kadampa Buddhist Center 1825 State Street Suite 202 Santa Barbara CA 93101 United States;X-APPLE-RADIUS=500;X-TITLE=1825 State Street Suite 202:geo:-119.7132928,34.4294947
END:VEVENT
END:VCALENDAR