BEGIN:VCALENDAR
VERSION:2.0
PRODID:-// - ECPv6.15.20//NONSGML v1.0//EN
CALSCALE:GREGORIAN
METHOD:PUBLISH
X-ORIGINAL-URL:https://meditationinsantabarbara.org
X-WR-CALDESC:Events for 
REFRESH-INTERVAL;VALUE=DURATION:PT1H
X-Robots-Tag:noindex
X-PUBLISHED-TTL:PT1H
BEGIN:VTIMEZONE
TZID:America/Los_Angeles
BEGIN:DAYLIGHT
TZOFFSETFROM:-0800
TZOFFSETTO:-0700
TZNAME:PDT
DTSTART:20240310T100000
END:DAYLIGHT
BEGIN:STANDARD
TZOFFSETFROM:-0700
TZOFFSETTO:-0800
TZNAME:PST
DTSTART:20241103T090000
END:STANDARD
BEGIN:DAYLIGHT
TZOFFSETFROM:-0800
TZOFFSETTO:-0700
TZNAME:PDT
DTSTART:20250309T100000
END:DAYLIGHT
BEGIN:STANDARD
TZOFFSETFROM:-0700
TZOFFSETTO:-0800
TZNAME:PST
DTSTART:20251102T090000
END:STANDARD
BEGIN:DAYLIGHT
TZOFFSETFROM:-0800
TZOFFSETTO:-0700
TZNAME:PDT
DTSTART:20260308T100000
END:DAYLIGHT
BEGIN:STANDARD
TZOFFSETFROM:-0700
TZOFFSETTO:-0800
TZNAME:PST
DTSTART:20261101T090000
END:STANDARD
END:VTIMEZONE
BEGIN:VEVENT
DTSTART;TZID=America/Los_Angeles:20250922T183000
DTEND;TZID=America/Los_Angeles:20250922T193000
DTSTAMP:20260424T155218
CREATED:20251223T193454Z
LAST-MODIFIED:20251223T193454Z
UID:10004306-1758565800-1758569400@meditationinsantabarbara.org
SUMMARY:Guided Lamrim Meditation
DESCRIPTION:  \nLearn the most essential teachings of Mahayana Buddhism as we meditate together on most Monday evenings. Please check our web calendar to confirm class meetings. \nEach class begins with a guided breathing meditation\, preparatory prayers\, and culminates with a second meditation based upon the topic of the evening. Drop in to any or all classes in this course. Perfect for beginners or those with meditation experience. \nAbout the Class \nLamrim is a special presentation of Buddhist teachings that modern people can practice in their daily lives. Lamrim originated with the Indian Buddhist Master Atisha\, and was later clarified by Tibetan Master and scholar Je Tsongkhapa. \nOur Founder\, Venerable Geshe Kelsang Gyatso Rinpoche\, makes Lamrim even more accessible for modern people in his books\, which appear in many languages. These are the texts we use in the class for our Lamrim meditations. \n  \nPlease arrive five minutes early to settle\, either in person or on zoom. \n(Zoom access is available with a monthly membership.) \nMembership: Class included with Online\, GP\, FP and Benefactor Memberships. Contact us to join. \n 
URL:https://meditationinsantabarbara.org/event/guided-lamrim-meditation-7/2025-09-22/
LOCATION:Mahakankala Kadampa Buddhist Center\, 1825 State Street Suite 202\, Santa Barbara\, CA\, 93101\, United States
CATEGORIES:Public
GEO:34.4294947;-119.7132928
X-APPLE-STRUCTURED-LOCATION;VALUE=URI;X-ADDRESS=Mahakankala Kadampa Buddhist Center 1825 State Street Suite 202 Santa Barbara CA 93101 United States;X-APPLE-RADIUS=500;X-TITLE=1825 State Street Suite 202:geo:-119.7132928,34.4294947
END:VEVENT
BEGIN:VEVENT
DTSTART;TZID=America/Los_Angeles:20250922T183000
DTEND;TZID=America/Los_Angeles:20250922T203000
DTSTAMP:20260424T155218
CREATED:20250622T222031Z
LAST-MODIFIED:20250622T222031Z
UID:10004112-1758565800-1758573000@meditationinsantabarbara.org
SUMMARY:Buddha's Return from Heaven Day
DESCRIPTION:Join us for a special Offering to the Spiritual Guide practice to celebrate Buddha’s Return from Heaven Day. \nThe following explanation is an extract from a talk given by Geshe Kelsang Gyatso on this day in 1991: \n“On this day we celebrate Buddha’s return from the desire god realm called Land of the Thirty-three Heavens\, where he had been to visit his mother who had been reborn there. \nTraditionally this day also marks the end of the summer retreat. Every year\, during the summer months\, Buddha did a three-month retreat with his disciples. His reason for doing this was to avoid harming insects and other animals. \nIf we go out a lot during the summer months we will naturally kill more insects and other animals than at other times of the year. The nature of Buddhadharma is universal compassion\, an unbiased compassion that is not just for human beings but for every living being\, including animals. \nIn fact\, we should have stronger compassion for animals than for human beings because animals suffer more. Human beings have better conditions and are more fortunate than animals. Because animals have so much suffering and no freedom\, out of compassion Buddhists should try not to kill or disturb them. So\, for three months during the summer\, Buddha advised his disciples to retreat\, staying always inside and living carefully and conscientiously. \nOne year during the annual summer retreat Buddha went to the Land of the Thirty-three Heavens. After his mother died she had taken rebirth in this god realm\, so-called because it has thirty-three different types of god. \nThe king of this realm is called Indra. The Indra who was king at that time was also Buddha’s disciple and he invited Buddha to go there. So Buddha went to benefit his mother and also\, at Indra’s request\, to benefit the other gods living there. He stayed three months\, and then returned on this day. \nThis day is therefore very special. It is said that if we engage in any kind of virtuous action on this day it becomes especially powerful and our merit greatly increases. For example\, if we offer one single light offering this action is multiplied to become millions of light offerings. \nOn this day we should especially remember Buddha’s kindness.”
URL:https://meditationinsantabarbara.org/event/buddhas-return-from-heaven-day-6/
LOCATION:Mahakankala Kadampa Buddhist Center\, 1825 State Street Suite 202\, Santa Barbara\, CA\, 93101\, United States
CATEGORIES:Chanted Prayers,Public
GEO:34.4294947;-119.7132928
X-APPLE-STRUCTURED-LOCATION;VALUE=URI;X-ADDRESS=Mahakankala Kadampa Buddhist Center 1825 State Street Suite 202 Santa Barbara CA 93101 United States;X-APPLE-RADIUS=500;X-TITLE=1825 State Street Suite 202:geo:-119.7132928,34.4294947
END:VEVENT
END:VCALENDAR