BEGIN:VCALENDAR
VERSION:2.0
PRODID:-// - ECPv6.15.20//NONSGML v1.0//EN
CALSCALE:GREGORIAN
METHOD:PUBLISH
X-ORIGINAL-URL:https://meditationinsantabarbara.org
X-WR-CALDESC:Events for 
REFRESH-INTERVAL;VALUE=DURATION:PT1H
X-Robots-Tag:noindex
X-PUBLISHED-TTL:PT1H
BEGIN:VTIMEZONE
TZID:America/Los_Angeles
BEGIN:DAYLIGHT
TZOFFSETFROM:-0800
TZOFFSETTO:-0700
TZNAME:PDT
DTSTART:20240310T100000
END:DAYLIGHT
BEGIN:STANDARD
TZOFFSETFROM:-0700
TZOFFSETTO:-0800
TZNAME:PST
DTSTART:20241103T090000
END:STANDARD
BEGIN:DAYLIGHT
TZOFFSETFROM:-0800
TZOFFSETTO:-0700
TZNAME:PDT
DTSTART:20250309T100000
END:DAYLIGHT
BEGIN:STANDARD
TZOFFSETFROM:-0700
TZOFFSETTO:-0800
TZNAME:PST
DTSTART:20251102T090000
END:STANDARD
BEGIN:DAYLIGHT
TZOFFSETFROM:-0800
TZOFFSETTO:-0700
TZNAME:PDT
DTSTART:20260308T100000
END:DAYLIGHT
BEGIN:STANDARD
TZOFFSETFROM:-0700
TZOFFSETTO:-0800
TZNAME:PST
DTSTART:20261101T090000
END:STANDARD
END:VTIMEZONE
BEGIN:VEVENT
DTSTART;TZID=America/Los_Angeles:20250208T140000
DTEND;TZID=America/Los_Angeles:20250208T144500
DTSTAMP:20260425T062011
CREATED:20241223T223316Z
LAST-MODIFIED:20241223T223316Z
UID:10003465-1739023200-1739025900@meditationinsantabarbara.org
SUMMARY:Tara Prayers
DESCRIPTION:  \nThe Tara Puja Liberation from Sorrow includes a special prayer composed by Buddha\, Praises to the Twenty-one Taras. Tara is a manifestation of the ultimate wisdom of all Buddhas. Each of the twenty-one distinct Taras is a manifestation of the principal Green Tara\, also known as Mother of the Conquerors. \nMother\nAs children we turn to our mother for help and guidance. She protects us from immediate dangers\, provides us with all our temporal needs\, and guides and encourages us in our learning and personal development. In the same way\, during our spiritual growth\, we need to turn to our Holy Mother\, Tara\, for refuge. She protects us from all internal and external dangers\, provides us with all the necessary conditions for our spiritual training\, and guides us and inspires us with her blessings as we progress along the spiritual path. \nRescuer\nTara means Rescuer. She is so called because she rescues us from the eight outer fears of lions\, elephants\, fire\, snakes\, thieves\, water\, bondage and evil spirits; and from the eight corresponding inner fears of pride\, ignorance\, anger\, jealousy\, wrong views\, attachment\, miserliness and deluded doubts. Temporarily\, Tara saves us from the dangers of rebirth in the three lower realms and ultimately saves us from the dangers of samsara and solitary peace. \nProtector\nIf we rely upon Mother Tara sincerely and with strong faith\, she will protect us from all obstacles and fulfill all our wishes. Since she is a wisdom Buddha\, and since she is a manifestation of the completely purified wind element\, Tara is able to help us very quickly. If we recite the twenty-one verses of praise we shall receive inconceivable benefits. These praises are very powerful because they are Sutra\, the actual words of Buddha. It is good to recite them as often as we can. \nAll chanted prayer practices are free of charge\, but donations are always welcome!
URL:https://meditationinsantabarbara.org/event/tara-prayers-4/
LOCATION:Mahakankala Kadampa Buddhist Center\, 1825 State Street Suite 202\, Santa Barbara\, CA\, 93101\, United States
CATEGORIES:Chanted Prayers,Public
GEO:34.4294947;-119.7132928
X-APPLE-STRUCTURED-LOCATION;VALUE=URI;X-ADDRESS=Mahakankala Kadampa Buddhist Center 1825 State Street Suite 202 Santa Barbara CA 93101 United States;X-APPLE-RADIUS=500;X-TITLE=1825 State Street Suite 202:geo:-119.7132928,34.4294947
END:VEVENT
BEGIN:VEVENT
DTSTART;TZID=America/Los_Angeles:20250208T150000
DTEND;TZID=America/Los_Angeles:20250208T170000
DTSTAMP:20260425T062011
CREATED:20241223T223505Z
LAST-MODIFIED:20241223T223518Z
UID:10003466-1739026800-1739034000@meditationinsantabarbara.org
SUMMARY:Meditations on the Wheel of Life
DESCRIPTION:  \nThis short day-course will include commentary and guided meditations on the Wheel of Life. This famous Buddhist illustration has been used to teach generations of Buddhists about the causes of happiness and suffering. Our Resident Teacher\, Kadam Keli\, will lead the class. Everyone is welcome!
URL:https://meditationinsantabarbara.org/event/meditations-on-the-wheel-of-life-2/
LOCATION:Mahakankala Kadampa Buddhist Center\, 1825 State Street Suite 202\, Santa Barbara\, CA\, 93101\, United States
CATEGORIES:Public
GEO:34.4294947;-119.7132928
X-APPLE-STRUCTURED-LOCATION;VALUE=URI;X-ADDRESS=Mahakankala Kadampa Buddhist Center 1825 State Street Suite 202 Santa Barbara CA 93101 United States;X-APPLE-RADIUS=500;X-TITLE=1825 State Street Suite 202:geo:-119.7132928,34.4294947
END:VEVENT
END:VCALENDAR