BEGIN:VCALENDAR
VERSION:2.0
PRODID:-// - ECPv6.15.20//NONSGML v1.0//EN
CALSCALE:GREGORIAN
METHOD:PUBLISH
X-ORIGINAL-URL:https://meditationinsantabarbara.org
X-WR-CALDESC:Events for 
REFRESH-INTERVAL;VALUE=DURATION:PT1H
X-Robots-Tag:noindex
X-PUBLISHED-TTL:PT1H
BEGIN:VTIMEZONE
TZID:America/Los_Angeles
BEGIN:DAYLIGHT
TZOFFSETFROM:-0800
TZOFFSETTO:-0700
TZNAME:PDT
DTSTART:20230312T100000
END:DAYLIGHT
BEGIN:STANDARD
TZOFFSETFROM:-0700
TZOFFSETTO:-0800
TZNAME:PST
DTSTART:20231105T090000
END:STANDARD
BEGIN:DAYLIGHT
TZOFFSETFROM:-0800
TZOFFSETTO:-0700
TZNAME:PDT
DTSTART:20240310T100000
END:DAYLIGHT
BEGIN:STANDARD
TZOFFSETFROM:-0700
TZOFFSETTO:-0800
TZNAME:PST
DTSTART:20241103T090000
END:STANDARD
BEGIN:DAYLIGHT
TZOFFSETFROM:-0800
TZOFFSETTO:-0700
TZNAME:PDT
DTSTART:20250309T100000
END:DAYLIGHT
BEGIN:STANDARD
TZOFFSETFROM:-0700
TZOFFSETTO:-0800
TZNAME:PST
DTSTART:20251102T090000
END:STANDARD
END:VTIMEZONE
BEGIN:VEVENT
DTSTART;TZID=America/Los_Angeles:20241208T103000
DTEND;TZID=America/Los_Angeles:20241208T110000
DTSTAMP:20260425T094422
CREATED:20240906T042212Z
LAST-MODIFIED:20241021T035618Z
UID:10003203-1733653800-1733655600@meditationinsantabarbara.org
SUMMARY:Prayers for World Peace
DESCRIPTION:Prayers for cultivating inner peace is the best method for establishing world peace. Thirty minutes of meaningful contemplation using prayers in English\, turning our minds towards the happiness and freedom of every living being. \nStay after for a guided meditation class.
URL:https://meditationinsantabarbara.org/event/prayers-for-world-peace/2024-12-08/
LOCATION:Mahakankala Kadampa Buddhist Center\, 1825 State Street Suite 202\, Santa Barbara\, CA\, 93101\, United States
CATEGORIES:Chanted Prayers,Public
GEO:34.4294947;-119.7132928
X-APPLE-STRUCTURED-LOCATION;VALUE=URI;X-ADDRESS=Mahakankala Kadampa Buddhist Center 1825 State Street Suite 202 Santa Barbara CA 93101 United States;X-APPLE-RADIUS=500;X-TITLE=1825 State Street Suite 202:geo:-119.7132928,34.4294947
END:VEVENT
BEGIN:VEVENT
DTSTART;TZID=America/Los_Angeles:20241208T110000
DTEND;TZID=America/Los_Angeles:20241208T120000
DTSTAMP:20260425T094422
CREATED:20240906T045934Z
LAST-MODIFIED:20250522T221353Z
UID:10003078-1733655600-1733659200@meditationinsantabarbara.org
SUMMARY:Sunday Morning Meditation Class
DESCRIPTION:Each Sunday morning class begins with a guided breathing meditation and Dharma talk\, and culminates with a second meditation based upon the morning’s topic. Perfect for beginners or those with meditation experience. Open to everyone. \nPlease arrive a few minutes early to settle.
URL:https://meditationinsantabarbara.org/event/sunday-morning-meditation-class/2024-12-08/
LOCATION:Mahakankala Kadampa Buddhist Center\, 1825 State Street Suite 202\, Santa Barbara\, CA\, 93101\, United States
CATEGORIES:Public
GEO:34.4294947;-119.7132928
X-APPLE-STRUCTURED-LOCATION;VALUE=URI;X-ADDRESS=Mahakankala Kadampa Buddhist Center 1825 State Street Suite 202 Santa Barbara CA 93101 United States;X-APPLE-RADIUS=500;X-TITLE=1825 State Street Suite 202:geo:-119.7132928,34.4294947
END:VEVENT
BEGIN:VEVENT
DTSTART;TZID=America/Los_Angeles:20241208T123000
DTEND;TZID=America/Los_Angeles:20241208T131500
DTSTAMP:20260425T094422
CREATED:20240906T043626Z
LAST-MODIFIED:20241021T035518Z
UID:10002922-1733661000-1733663700@meditationinsantabarbara.org
SUMMARY:Tara Prayers
DESCRIPTION:  \nThe Tara Puja Liberation from Sorrow includes a special prayer composed by Buddha\, Praises to the Twenty-one Taras. Tara is a manifestation of the ultimate wisdom of all Buddhas. Each of the twenty-one distinct Taras is a manifestation of the principal Green Tara\, also known as Mother of the Conquerors. \nMother\nAs children we turn to our mother for help and guidance. She protects us from immediate dangers\, provides us with all our temporal needs\, and guides and encourages us in our learning and personal development. In the same way\, during our spiritual growth\, we need to turn to our Holy Mother\, Tara\, for refuge. She protects us from all internal and external dangers\, provides us with all the necessary conditions for our spiritual training\, and guides us and inspires us with her blessings as we progress along the spiritual path. \nRescuer\nTara means Rescuer. She is so called because she rescues us from the eight outer fears of lions\, elephants\, fire\, snakes\, thieves\, water\, bondage and evil spirits; and from the eight corresponding inner fears of pride\, ignorance\, anger\, jealousy\, wrong views\, attachment\, miserliness and deluded doubts. Temporarily\, Tara saves us from the dangers of rebirth in the three lower realms and ultimately saves us from the dangers of samsara and solitary peace. \nProtector\nIf we rely upon Mother Tara sincerely and with strong faith\, she will protect us from all obstacles and fulfill all our wishes. Since she is a wisdom Buddha\, and since she is a manifestation of the completely purified wind element\, Tara is able to help us very quickly. If we recite the twenty-one verses of praise we shall receive inconceivable benefits. These praises are very powerful because they are Sutra\, the actual words of Buddha. It is good to recite them as often as we can. \nAll chanted prayer practices are free of charge\, but donations are always welcome!
URL:https://meditationinsantabarbara.org/event/tara-prayers-3/
LOCATION:Mahakankala Kadampa Buddhist Center\, 1825 State Street Suite 202\, Santa Barbara\, CA\, 93101\, United States
CATEGORIES:Chanted Prayers,Public
GEO:34.4294947;-119.7132928
X-APPLE-STRUCTURED-LOCATION;VALUE=URI;X-ADDRESS=Mahakankala Kadampa Buddhist Center 1825 State Street Suite 202 Santa Barbara CA 93101 United States;X-APPLE-RADIUS=500;X-TITLE=1825 State Street Suite 202:geo:-119.7132928,34.4294947
END:VEVENT
END:VCALENDAR