BEGIN:VCALENDAR
VERSION:2.0
PRODID:-// - ECPv6.15.20//NONSGML v1.0//EN
CALSCALE:GREGORIAN
METHOD:PUBLISH
X-ORIGINAL-URL:https://meditationinsantabarbara.org
X-WR-CALDESC:Events for 
REFRESH-INTERVAL;VALUE=DURATION:PT1H
X-Robots-Tag:noindex
X-PUBLISHED-TTL:PT1H
BEGIN:VTIMEZONE
TZID:America/Los_Angeles
BEGIN:DAYLIGHT
TZOFFSETFROM:-0800
TZOFFSETTO:-0700
TZNAME:PDT
DTSTART:20230312T100000
END:DAYLIGHT
BEGIN:STANDARD
TZOFFSETFROM:-0700
TZOFFSETTO:-0800
TZNAME:PST
DTSTART:20231105T090000
END:STANDARD
BEGIN:DAYLIGHT
TZOFFSETFROM:-0800
TZOFFSETTO:-0700
TZNAME:PDT
DTSTART:20240310T100000
END:DAYLIGHT
BEGIN:STANDARD
TZOFFSETFROM:-0700
TZOFFSETTO:-0800
TZNAME:PST
DTSTART:20241103T090000
END:STANDARD
BEGIN:DAYLIGHT
TZOFFSETFROM:-0800
TZOFFSETTO:-0700
TZNAME:PDT
DTSTART:20250309T100000
END:DAYLIGHT
BEGIN:STANDARD
TZOFFSETFROM:-0700
TZOFFSETTO:-0800
TZNAME:PST
DTSTART:20251102T090000
END:STANDARD
END:VTIMEZONE
BEGIN:VEVENT
DTSTART;VALUE=DATE:20240920
DTEND;VALUE=DATE:20240926
DTSTAMP:20260425T203018
CREATED:20240423T190257Z
LAST-MODIFIED:20240823T050926Z
UID:10002597-1726790400-1727308799@meditationinsantabarbara.org
SUMMARY:Kadampa U.S. Festival at IKRC Grand Canyon
DESCRIPTION:Join us at the Kadampa Temple for World Peace in Northern Arizona. This special week-long event is also available online! \nAbout the Teachings\nFear and anxiety plague our world. As we deal with everything from minor insecurities and social anxiety to concerns about major world events\, it’s hard to find a sense of safety and tranquility. Even worse\, our fears often stop us from doing what’s right for ourselves and others. During this US Festival we will discover how to develop a spiritual power by relying on Buddha Vajrapani that will help us break out of this fearful state into a courageous\, empowered attitude. We will also learn how to harness the five forces\, a special inner tool\, to bring about radical\, positive change in our life. \nBuddha Vajrapani is the Buddha of spiritual power. With the development of spiritual power we possess the confidence\, inner strength and skill not only to take on and defeat our own delusions\, but to be of great benefit in helping free others from their delusions as well. Nothing could be more meaningful. \nThe empowerment is a beautiful and inspiring guided meditation and ritual in which we are introduced to Buddha Vajrapani from whom we then receive many blessings\, adding great power to our own practice as well as sowing seeds for our future attainment of enlightenment. \nClick here to see the schedule
URL:https://meditationinsantabarbara.org/event/kadampa-u-s-festival-at-ikrc-grand-canyon/
LOCATION:International Kadampa Retreat Center Grand Canyon\, 6701 Mountain Ranch Resort Dr\, Williams\, AZ\, 86046\, United States
CATEGORIES:Public
ORGANIZER;CN="Kadampa Festivals":MAILTO:fallinfo@kadampafestivals.org
END:VEVENT
BEGIN:VEVENT
DTSTART;TZID=America/Los_Angeles:20240924T123000
DTEND;TZID=America/Los_Angeles:20240924T130000
DTSTAMP:20260425T203018
CREATED:20240602T191011Z
LAST-MODIFIED:20241128T063728Z
UID:10002696-1727181000-1727182800@meditationinsantabarbara.org
SUMMARY:Lunchtime Guided Meditation
DESCRIPTION:Simply breathe. Relieve stress. Find peace.\n  \nOur Lunchtime Meditations are great for beginners and experienced meditators. Drop in any Tuesday at 12:30 for 30 minutes of peaceful meditation. \nCost per class: $5
URL:https://meditationinsantabarbara.org/event/lunchtime-guided-meditation-2/2024-09-24/
LOCATION:Mahakankala Kadampa Buddhist Center\, 1825 State Street Suite 202\, Santa Barbara\, CA\, 93101\, United States
CATEGORIES:Lunchtime,Public
GEO:34.4294947;-119.7132928
X-APPLE-STRUCTURED-LOCATION;VALUE=URI;X-ADDRESS=Mahakankala Kadampa Buddhist Center 1825 State Street Suite 202 Santa Barbara CA 93101 United States;X-APPLE-RADIUS=500;X-TITLE=1825 State Street Suite 202:geo:-119.7132928,34.4294947
END:VEVENT
BEGIN:VEVENT
DTSTART;TZID=America/Los_Angeles:20240924T170000
DTEND;TZID=America/Los_Angeles:20240924T180000
DTSTAMP:20260425T203018
CREATED:20240622T202250Z
LAST-MODIFIED:20241106T221004Z
UID:10003219-1727197200-1727200800@meditationinsantabarbara.org
SUMMARY:Heart Jewel Prayers w/ Meditation
DESCRIPTION:Join us In Person \nIf you enjoy meditating with others\, chanted meditations are a great opportunity to engage in group meditation. These chanted meditations are also known in Sanskrit as pujas\, meaning offering; and the prayers we recite are sadhanas\, meaning methods for receiving attainments. \nOur prayers are in English. We request the blessings\, protection and guidance of the holy beings. We can make requests for ourselves or for others who need help or protection. These spiritual practices create a strong connection with the Buddhas\, and help us purify our negativity and fill our mind with positive\, healing energy. \nHeart Jewel puja includes a period of silence for meditation on Lamrim. By relying upon this practice\, we can purify negativity\, accumulate merit\, and receive blessings. In this way\, we will naturally accomplish all the realizations of the stages of the path to Enlightenment and attain a very special Dharma wisdom. \nAll chanted prayers are free.
URL:https://meditationinsantabarbara.org/event/heart-jewel-prayers-w-meditation-2-2024-04-16-3/2024-09-24/
LOCATION:Mahakankala Kadampa Buddhist Center\, 1825 State Street Suite 202\, Santa Barbara\, CA\, 93101\, United States
CATEGORIES:Chanted Prayers,Public
GEO:34.4294947;-119.7132928
X-APPLE-STRUCTURED-LOCATION;VALUE=URI;X-ADDRESS=Mahakankala Kadampa Buddhist Center 1825 State Street Suite 202 Santa Barbara CA 93101 United States;X-APPLE-RADIUS=500;X-TITLE=1825 State Street Suite 202:geo:-119.7132928,34.4294947
END:VEVENT
BEGIN:VEVENT
DTSTART;TZID=America/Los_Angeles:20240924T183000
DTEND;TZID=America/Los_Angeles:20240924T203000
DTSTAMP:20260425T203018
CREATED:20240621T231426Z
LAST-MODIFIED:20240621T231426Z
UID:10002755-1727202600-1727209800@meditationinsantabarbara.org
SUMMARY:Offering to the Spiritual Guide Prayers
DESCRIPTION:  \n \n  \nEveryone is welcome to join us for this beautiful prayer practice. \nOffering to the Spiritual Guide is a special Guru yoga of Je Tsongkhapa in conjunction with Highest Yoga Tantra. It was compiled by the first Panchen Lama\, Losang Chökyi Gyaltsän\, as a preliminary practice for Vajrayana Mahamudra. The main practice is relying upon the Spiritual Guide\, but it also includes all the essential practices of the stages of the path (Lamrim) and training the mind (Lojong)\, as well as both the generation stage and completion stage of Highest Yoga Tantra. \nThis puja (prayer practice) normally takes place on or near the 10th & 25th of the month.
URL:https://meditationinsantabarbara.org/event/offering-to-the-spiritual-guide-prayers-63/
LOCATION:Mahakankala Kadampa Buddhist Center\, 1825 State Street Suite 202\, Santa Barbara\, CA\, 93101\, United States
CATEGORIES:Chanted Prayers,Public
GEO:34.4294947;-119.7132928
X-APPLE-STRUCTURED-LOCATION;VALUE=URI;X-ADDRESS=Mahakankala Kadampa Buddhist Center 1825 State Street Suite 202 Santa Barbara CA 93101 United States;X-APPLE-RADIUS=500;X-TITLE=1825 State Street Suite 202:geo:-119.7132928,34.4294947
END:VEVENT
END:VCALENDAR