BEGIN:VCALENDAR
VERSION:2.0
PRODID:-// - ECPv6.15.20//NONSGML v1.0//EN
CALSCALE:GREGORIAN
METHOD:PUBLISH
X-ORIGINAL-URL:https://meditationinsantabarbara.org
X-WR-CALDESC:Events for 
REFRESH-INTERVAL;VALUE=DURATION:PT1H
X-Robots-Tag:noindex
X-PUBLISHED-TTL:PT1H
BEGIN:VTIMEZONE
TZID:America/Los_Angeles
BEGIN:DAYLIGHT
TZOFFSETFROM:-0800
TZOFFSETTO:-0700
TZNAME:PDT
DTSTART:20230312T100000
END:DAYLIGHT
BEGIN:STANDARD
TZOFFSETFROM:-0700
TZOFFSETTO:-0800
TZNAME:PST
DTSTART:20231105T090000
END:STANDARD
BEGIN:DAYLIGHT
TZOFFSETFROM:-0800
TZOFFSETTO:-0700
TZNAME:PDT
DTSTART:20240310T100000
END:DAYLIGHT
BEGIN:STANDARD
TZOFFSETFROM:-0700
TZOFFSETTO:-0800
TZNAME:PST
DTSTART:20241103T090000
END:STANDARD
BEGIN:DAYLIGHT
TZOFFSETFROM:-0800
TZOFFSETTO:-0700
TZNAME:PDT
DTSTART:20250309T100000
END:DAYLIGHT
BEGIN:STANDARD
TZOFFSETFROM:-0700
TZOFFSETTO:-0800
TZNAME:PST
DTSTART:20251102T090000
END:STANDARD
END:VTIMEZONE
BEGIN:VEVENT
DTSTART;VALUE=DATE:20240920
DTEND;VALUE=DATE:20240926
DTSTAMP:20260425T203006
CREATED:20240423T190257Z
LAST-MODIFIED:20240823T050926Z
UID:10002597-1726790400-1727308799@meditationinsantabarbara.org
SUMMARY:Kadampa U.S. Festival at IKRC Grand Canyon
DESCRIPTION:Join us at the Kadampa Temple for World Peace in Northern Arizona. This special week-long event is also available online! \nAbout the Teachings\nFear and anxiety plague our world. As we deal with everything from minor insecurities and social anxiety to concerns about major world events\, it’s hard to find a sense of safety and tranquility. Even worse\, our fears often stop us from doing what’s right for ourselves and others. During this US Festival we will discover how to develop a spiritual power by relying on Buddha Vajrapani that will help us break out of this fearful state into a courageous\, empowered attitude. We will also learn how to harness the five forces\, a special inner tool\, to bring about radical\, positive change in our life. \nBuddha Vajrapani is the Buddha of spiritual power. With the development of spiritual power we possess the confidence\, inner strength and skill not only to take on and defeat our own delusions\, but to be of great benefit in helping free others from their delusions as well. Nothing could be more meaningful. \nThe empowerment is a beautiful and inspiring guided meditation and ritual in which we are introduced to Buddha Vajrapani from whom we then receive many blessings\, adding great power to our own practice as well as sowing seeds for our future attainment of enlightenment. \nClick here to see the schedule
URL:https://meditationinsantabarbara.org/event/kadampa-u-s-festival-at-ikrc-grand-canyon/
LOCATION:International Kadampa Retreat Center Grand Canyon\, 6701 Mountain Ranch Resort Dr\, Williams\, AZ\, 86046\, United States
CATEGORIES:Public
ORGANIZER;CN="Kadampa Festivals":MAILTO:fallinfo@kadampafestivals.org
END:VEVENT
BEGIN:VEVENT
DTSTART;TZID=America/Los_Angeles:20240922T103000
DTEND;TZID=America/Los_Angeles:20240922T111500
DTSTAMP:20260425T203006
CREATED:20240424T183055Z
LAST-MODIFIED:20240906T041358Z
UID:10002607-1727001000-1727003700@meditationinsantabarbara.org
SUMMARY:Prayers for World Peace
DESCRIPTION:Prayers for cultivating inner peace is the best method for establishing world peace. Thirty minutes of meaningful contemplation using prayers in English\, turning our minds towards the happiness and freedom of every living being. \nStay after for personal quiet meditation.
URL:https://meditationinsantabarbara.org/event/prayers-for-world-peace-2/2024-09-22/
LOCATION:Mahakankala Kadampa Buddhist Center\, 1825 State Street Suite 202\, Santa Barbara\, CA\, 93101\, United States
CATEGORIES:Chanted Prayers,Public
GEO:34.4294947;-119.7132928
X-APPLE-STRUCTURED-LOCATION;VALUE=URI;X-ADDRESS=Mahakankala Kadampa Buddhist Center 1825 State Street Suite 202 Santa Barbara CA 93101 United States;X-APPLE-RADIUS=500;X-TITLE=1825 State Street Suite 202:geo:-119.7132928,34.4294947
END:VEVENT
BEGIN:VEVENT
DTSTART;TZID=America/Los_Angeles:20240922T150000
DTEND;TZID=America/Los_Angeles:20240922T170000
DTSTAMP:20260425T203006
CREATED:20240621T225751Z
LAST-MODIFIED:20240621T230233Z
UID:10002752-1727017200-1727024400@meditationinsantabarbara.org
SUMMARY:Buddha's Return from Heaven Day
DESCRIPTION:  \nJoin us for a special Offering to the Spiritual Guide practice to celebrate Buddha’s Return from Heaven Day. \n\nThe following explanation is an extract from a talk given by Geshe Kelsang Gyatso on this day in 1991: \n“On this day we celebrate Buddha’s return from the desire god realm called Land of the Thirty-three Heavens\, where he had been to visit his mother who had been reborn there. \nTraditionally this day also marks the end of the summer retreat. Every year\, during the summer months\, Buddha did a three-month retreat with his disciples. His reason for doing this was to avoid harming insects and other animals. \nIf we go out a lot during the summer months we will naturally kill more insects and other animals than at other times of the year. The nature of Buddhadharma is universal compassion\, an unbiased compassion that is not just for human beings but for every living being\, including animals. \nIn fact\, we should have stronger compassion for animals than for human beings because animals suffer more. Human beings have better conditions and are more fortunate than animals. Because animals have so much suffering and no freedom\, out of compassion Buddhists should try not to kill or disturb them. So\, for three months during the summer\, Buddha advised his disciples to retreat\, staying always inside and living carefully and conscientiously. \nOne year during the annual summer retreat Buddha went to the Land of the Thirty-three Heavens. After his mother died she had taken rebirth in this god realm\, so-called because it has thirty-three different types of god. \nThe king of this realm is called Indra. The Indra who was king at that time was also Buddha’s disciple and he invited Buddha to go there. So Buddha went to benefit his mother and also\, at Indra’s request\, to benefit the other gods living there. He stayed three months\, and then returned on this day. \nThis day is therefore very special. It is said that if we engage in any kind of virtuous action on this day it becomes especially powerful and our merit greatly increases. For example\, if we offer one single light offering this action is multiplied to become millions of light offerings. \nOn this day we should especially remember Buddha’s kindness.” \n 
URL:https://meditationinsantabarbara.org/event/buddhas-return-from-heaven-day/
LOCATION:Mahakankala Kadampa Buddhist Center\, 1825 State Street Suite 202\, Santa Barbara\, CA\, 93101\, United States
CATEGORIES:Chanted Prayers,Public
GEO:34.4294947;-119.7132928
X-APPLE-STRUCTURED-LOCATION;VALUE=URI;X-ADDRESS=Mahakankala Kadampa Buddhist Center 1825 State Street Suite 202 Santa Barbara CA 93101 United States;X-APPLE-RADIUS=500;X-TITLE=1825 State Street Suite 202:geo:-119.7132928,34.4294947
END:VEVENT
END:VCALENDAR