BEGIN:VCALENDAR
VERSION:2.0
PRODID:-// - ECPv6.15.20//NONSGML v1.0//EN
CALSCALE:GREGORIAN
METHOD:PUBLISH
X-ORIGINAL-URL:https://meditationinsantabarbara.org
X-WR-CALDESC:Events for 
REFRESH-INTERVAL;VALUE=DURATION:PT1H
X-Robots-Tag:noindex
X-PUBLISHED-TTL:PT1H
BEGIN:VTIMEZONE
TZID:America/Los_Angeles
BEGIN:DAYLIGHT
TZOFFSETFROM:-0800
TZOFFSETTO:-0700
TZNAME:PDT
DTSTART:20250309T100000
END:DAYLIGHT
BEGIN:STANDARD
TZOFFSETFROM:-0700
TZOFFSETTO:-0800
TZNAME:PST
DTSTART:20251102T090000
END:STANDARD
BEGIN:DAYLIGHT
TZOFFSETFROM:-0800
TZOFFSETTO:-0700
TZNAME:PDT
DTSTART:20260308T100000
END:DAYLIGHT
BEGIN:STANDARD
TZOFFSETFROM:-0700
TZOFFSETTO:-0800
TZNAME:PST
DTSTART:20261101T090000
END:STANDARD
BEGIN:DAYLIGHT
TZOFFSETFROM:-0800
TZOFFSETTO:-0700
TZNAME:PDT
DTSTART:20270314T100000
END:DAYLIGHT
BEGIN:STANDARD
TZOFFSETFROM:-0700
TZOFFSETTO:-0800
TZNAME:PST
DTSTART:20271107T090000
END:STANDARD
END:VTIMEZONE
BEGIN:VEVENT
DTSTART;TZID=America/Los_Angeles:20260802T110000
DTEND;TZID=America/Los_Angeles:20260802T120000
DTSTAMP:20260423T153547
CREATED:20260120T145629Z
LAST-MODIFIED:20260303T041314Z
UID:10004639-1785668400-1785672000@meditationinsantabarbara.org
SUMMARY:Sunday Morning Meditation Class
DESCRIPTION:Each Sunday morning class begins with a guided breathing meditation and Dharma talk\, and culminates with a second meditation based upon the morning’s topic. Perfect for beginners or those with meditation experience. Open to everyone. \nPlease arrive a few minutes early to settle.
URL:https://meditationinsantabarbara.org/event/sunday-morning-meditation-class-10/2026-08-02/
LOCATION:Mahakankala Kadampa Buddhist Center\, 1825 State Street Suite 202\, Santa Barbara\, CA\, 93101\, United States
CATEGORIES:Public
GEO:34.4294947;-119.7132928
X-APPLE-STRUCTURED-LOCATION;VALUE=URI;X-ADDRESS=Mahakankala Kadampa Buddhist Center 1825 State Street Suite 202 Santa Barbara CA 93101 United States;X-APPLE-RADIUS=500;X-TITLE=1825 State Street Suite 202:geo:-119.7132928,34.4294947
END:VEVENT
BEGIN:VEVENT
DTSTART;TZID=America/Los_Angeles:20260802T133000
DTEND;TZID=America/Los_Angeles:20260802T153000
DTSTAMP:20260423T153547
CREATED:20260120T151253Z
LAST-MODIFIED:20260303T041941Z
UID:10004799-1785677400-1785684600@meditationinsantabarbara.org
SUMMARY:Foundation Program
DESCRIPTION:“Everyone\, whether religious or non-religious\, is looking for happiness all the time and wants to be free from problems and suffering permanently. We can fulfill these wishes through understanding and practicing the instructions given in this book.” – Venerable Geshe Kelsang Gyatso \nThis Class is by enrollment only
URL:https://meditationinsantabarbara.org/event/foundation-program-6/2026-08-02/
LOCATION:Mahakankala Kadampa Buddhist Center\, 1825 State Street Suite 202\, Santa Barbara\, CA\, 93101\, United States
CATEGORIES:Public
GEO:34.4294947;-119.7132928
X-APPLE-STRUCTURED-LOCATION;VALUE=URI;X-ADDRESS=Mahakankala Kadampa Buddhist Center 1825 State Street Suite 202 Santa Barbara CA 93101 United States;X-APPLE-RADIUS=500;X-TITLE=1825 State Street Suite 202:geo:-119.7132928,34.4294947
END:VEVENT
BEGIN:VEVENT
DTSTART;TZID=America/Los_Angeles:20260803T170000
DTEND;TZID=America/Los_Angeles:20260803T180000
DTSTAMP:20260423T153547
CREATED:20251223T193854Z
LAST-MODIFIED:20260120T145928Z
UID:10004686-1785776400-1785780000@meditationinsantabarbara.org
SUMMARY:Heart Jewel Prayers
DESCRIPTION:Join us In Person \nIf you enjoy meditating with others\, chanted meditations are a great opportunity to engage in group meditation. These chanted meditations are also known in Sanskrit as pujas\, meaning offering; and the prayers we recite are sadhanas\, meaning methods for receiving attainments. \nOur prayers are in English. We request the blessings\, protection and guidance of the holy beings. We can make requests for ourselves or for others who need help or protection. These spiritual practices create a strong connection with the Buddhas\, and help us purify our negativity and fill our mind with positive\, healing energy. \nHeart Jewel puja includes a period of silence for meditation. By relying upon this practice\, we can purify negativity\, accumulate merit\, and receive blessings. In this way\, we will naturally accomplish all the realizations of the stages of the path to Enlightenment and attain a very special Dharma wisdom. \nAll chanted prayers are free.
URL:https://meditationinsantabarbara.org/event/heart-jewel-prayers-7/2026-08-03/
LOCATION:Mahakankala Kadampa Buddhist Center\, 1825 State Street Suite 202\, Santa Barbara\, CA\, 93101\, United States
CATEGORIES:Chanted Prayers,Public
GEO:34.4294947;-119.7132928
X-APPLE-STRUCTURED-LOCATION;VALUE=URI;X-ADDRESS=Mahakankala Kadampa Buddhist Center 1825 State Street Suite 202 Santa Barbara CA 93101 United States;X-APPLE-RADIUS=500;X-TITLE=1825 State Street Suite 202:geo:-119.7132928,34.4294947
END:VEVENT
BEGIN:VEVENT
DTSTART;TZID=America/Los_Angeles:20260809T110000
DTEND;TZID=America/Los_Angeles:20260809T120000
DTSTAMP:20260423T153547
CREATED:20260120T145629Z
LAST-MODIFIED:20260303T041314Z
UID:10004640-1786273200-1786276800@meditationinsantabarbara.org
SUMMARY:Sunday Morning Meditation Class
DESCRIPTION:Each Sunday morning class begins with a guided breathing meditation and Dharma talk\, and culminates with a second meditation based upon the morning’s topic. Perfect for beginners or those with meditation experience. Open to everyone. \nPlease arrive a few minutes early to settle.
URL:https://meditationinsantabarbara.org/event/sunday-morning-meditation-class-10/2026-08-09/
LOCATION:Mahakankala Kadampa Buddhist Center\, 1825 State Street Suite 202\, Santa Barbara\, CA\, 93101\, United States
CATEGORIES:Public
GEO:34.4294947;-119.7132928
X-APPLE-STRUCTURED-LOCATION;VALUE=URI;X-ADDRESS=Mahakankala Kadampa Buddhist Center 1825 State Street Suite 202 Santa Barbara CA 93101 United States;X-APPLE-RADIUS=500;X-TITLE=1825 State Street Suite 202:geo:-119.7132928,34.4294947
END:VEVENT
BEGIN:VEVENT
DTSTART;TZID=America/Los_Angeles:20260809T133000
DTEND;TZID=America/Los_Angeles:20260809T153000
DTSTAMP:20260423T153547
CREATED:20260120T151253Z
LAST-MODIFIED:20260303T041941Z
UID:10004800-1786282200-1786289400@meditationinsantabarbara.org
SUMMARY:Foundation Program
DESCRIPTION:“Everyone\, whether religious or non-religious\, is looking for happiness all the time and wants to be free from problems and suffering permanently. We can fulfill these wishes through understanding and practicing the instructions given in this book.” – Venerable Geshe Kelsang Gyatso \nThis Class is by enrollment only
URL:https://meditationinsantabarbara.org/event/foundation-program-6/2026-08-09/
LOCATION:Mahakankala Kadampa Buddhist Center\, 1825 State Street Suite 202\, Santa Barbara\, CA\, 93101\, United States
CATEGORIES:Public
GEO:34.4294947;-119.7132928
X-APPLE-STRUCTURED-LOCATION;VALUE=URI;X-ADDRESS=Mahakankala Kadampa Buddhist Center 1825 State Street Suite 202 Santa Barbara CA 93101 United States;X-APPLE-RADIUS=500;X-TITLE=1825 State Street Suite 202:geo:-119.7132928,34.4294947
END:VEVENT
BEGIN:VEVENT
DTSTART;TZID=America/Los_Angeles:20260810T170000
DTEND;TZID=America/Los_Angeles:20260810T180000
DTSTAMP:20260423T153547
CREATED:20251223T193854Z
LAST-MODIFIED:20260120T145928Z
UID:10004687-1786381200-1786384800@meditationinsantabarbara.org
SUMMARY:Heart Jewel Prayers
DESCRIPTION:Join us In Person \nIf you enjoy meditating with others\, chanted meditations are a great opportunity to engage in group meditation. These chanted meditations are also known in Sanskrit as pujas\, meaning offering; and the prayers we recite are sadhanas\, meaning methods for receiving attainments. \nOur prayers are in English. We request the blessings\, protection and guidance of the holy beings. We can make requests for ourselves or for others who need help or protection. These spiritual practices create a strong connection with the Buddhas\, and help us purify our negativity and fill our mind with positive\, healing energy. \nHeart Jewel puja includes a period of silence for meditation. By relying upon this practice\, we can purify negativity\, accumulate merit\, and receive blessings. In this way\, we will naturally accomplish all the realizations of the stages of the path to Enlightenment and attain a very special Dharma wisdom. \nAll chanted prayers are free.
URL:https://meditationinsantabarbara.org/event/heart-jewel-prayers-7/2026-08-10/
LOCATION:Mahakankala Kadampa Buddhist Center\, 1825 State Street Suite 202\, Santa Barbara\, CA\, 93101\, United States
CATEGORIES:Chanted Prayers,Public
GEO:34.4294947;-119.7132928
X-APPLE-STRUCTURED-LOCATION;VALUE=URI;X-ADDRESS=Mahakankala Kadampa Buddhist Center 1825 State Street Suite 202 Santa Barbara CA 93101 United States;X-APPLE-RADIUS=500;X-TITLE=1825 State Street Suite 202:geo:-119.7132928,34.4294947
END:VEVENT
BEGIN:VEVENT
DTSTART;TZID=America/Los_Angeles:20260816T110000
DTEND;TZID=America/Los_Angeles:20260816T120000
DTSTAMP:20260423T153547
CREATED:20260120T145629Z
LAST-MODIFIED:20260303T041314Z
UID:10004641-1786878000-1786881600@meditationinsantabarbara.org
SUMMARY:Sunday Morning Meditation Class
DESCRIPTION:Each Sunday morning class begins with a guided breathing meditation and Dharma talk\, and culminates with a second meditation based upon the morning’s topic. Perfect for beginners or those with meditation experience. Open to everyone. \nPlease arrive a few minutes early to settle.
URL:https://meditationinsantabarbara.org/event/sunday-morning-meditation-class-10/2026-08-16/
LOCATION:Mahakankala Kadampa Buddhist Center\, 1825 State Street Suite 202\, Santa Barbara\, CA\, 93101\, United States
CATEGORIES:Public
GEO:34.4294947;-119.7132928
X-APPLE-STRUCTURED-LOCATION;VALUE=URI;X-ADDRESS=Mahakankala Kadampa Buddhist Center 1825 State Street Suite 202 Santa Barbara CA 93101 United States;X-APPLE-RADIUS=500;X-TITLE=1825 State Street Suite 202:geo:-119.7132928,34.4294947
END:VEVENT
BEGIN:VEVENT
DTSTART;TZID=America/Los_Angeles:20260816T133000
DTEND;TZID=America/Los_Angeles:20260816T153000
DTSTAMP:20260423T153547
CREATED:20260120T151253Z
LAST-MODIFIED:20260303T041941Z
UID:10004801-1786887000-1786894200@meditationinsantabarbara.org
SUMMARY:Foundation Program
DESCRIPTION:“Everyone\, whether religious or non-religious\, is looking for happiness all the time and wants to be free from problems and suffering permanently. We can fulfill these wishes through understanding and practicing the instructions given in this book.” – Venerable Geshe Kelsang Gyatso \nThis Class is by enrollment only
URL:https://meditationinsantabarbara.org/event/foundation-program-6/2026-08-16/
LOCATION:Mahakankala Kadampa Buddhist Center\, 1825 State Street Suite 202\, Santa Barbara\, CA\, 93101\, United States
CATEGORIES:Public
GEO:34.4294947;-119.7132928
X-APPLE-STRUCTURED-LOCATION;VALUE=URI;X-ADDRESS=Mahakankala Kadampa Buddhist Center 1825 State Street Suite 202 Santa Barbara CA 93101 United States;X-APPLE-RADIUS=500;X-TITLE=1825 State Street Suite 202:geo:-119.7132928,34.4294947
END:VEVENT
BEGIN:VEVENT
DTSTART;TZID=America/Los_Angeles:20260817T170000
DTEND;TZID=America/Los_Angeles:20260817T180000
DTSTAMP:20260423T153547
CREATED:20251223T193854Z
LAST-MODIFIED:20260120T145928Z
UID:10004688-1786986000-1786989600@meditationinsantabarbara.org
SUMMARY:Heart Jewel Prayers
DESCRIPTION:Join us In Person \nIf you enjoy meditating with others\, chanted meditations are a great opportunity to engage in group meditation. These chanted meditations are also known in Sanskrit as pujas\, meaning offering; and the prayers we recite are sadhanas\, meaning methods for receiving attainments. \nOur prayers are in English. We request the blessings\, protection and guidance of the holy beings. We can make requests for ourselves or for others who need help or protection. These spiritual practices create a strong connection with the Buddhas\, and help us purify our negativity and fill our mind with positive\, healing energy. \nHeart Jewel puja includes a period of silence for meditation. By relying upon this practice\, we can purify negativity\, accumulate merit\, and receive blessings. In this way\, we will naturally accomplish all the realizations of the stages of the path to Enlightenment and attain a very special Dharma wisdom. \nAll chanted prayers are free.
URL:https://meditationinsantabarbara.org/event/heart-jewel-prayers-7/2026-08-17/
LOCATION:Mahakankala Kadampa Buddhist Center\, 1825 State Street Suite 202\, Santa Barbara\, CA\, 93101\, United States
CATEGORIES:Chanted Prayers,Public
GEO:34.4294947;-119.7132928
X-APPLE-STRUCTURED-LOCATION;VALUE=URI;X-ADDRESS=Mahakankala Kadampa Buddhist Center 1825 State Street Suite 202 Santa Barbara CA 93101 United States;X-APPLE-RADIUS=500;X-TITLE=1825 State Street Suite 202:geo:-119.7132928,34.4294947
END:VEVENT
BEGIN:VEVENT
DTSTART;TZID=America/Los_Angeles:20260823T110000
DTEND;TZID=America/Los_Angeles:20260823T120000
DTSTAMP:20260423T153547
CREATED:20260120T145629Z
LAST-MODIFIED:20260303T041314Z
UID:10004642-1787482800-1787486400@meditationinsantabarbara.org
SUMMARY:Sunday Morning Meditation Class
DESCRIPTION:Each Sunday morning class begins with a guided breathing meditation and Dharma talk\, and culminates with a second meditation based upon the morning’s topic. Perfect for beginners or those with meditation experience. Open to everyone. \nPlease arrive a few minutes early to settle.
URL:https://meditationinsantabarbara.org/event/sunday-morning-meditation-class-10/2026-08-23/
LOCATION:Mahakankala Kadampa Buddhist Center\, 1825 State Street Suite 202\, Santa Barbara\, CA\, 93101\, United States
CATEGORIES:Public
GEO:34.4294947;-119.7132928
X-APPLE-STRUCTURED-LOCATION;VALUE=URI;X-ADDRESS=Mahakankala Kadampa Buddhist Center 1825 State Street Suite 202 Santa Barbara CA 93101 United States;X-APPLE-RADIUS=500;X-TITLE=1825 State Street Suite 202:geo:-119.7132928,34.4294947
END:VEVENT
BEGIN:VEVENT
DTSTART;TZID=America/Los_Angeles:20260823T133000
DTEND;TZID=America/Los_Angeles:20260823T153000
DTSTAMP:20260423T153547
CREATED:20260120T151253Z
LAST-MODIFIED:20260303T041941Z
UID:10004802-1787491800-1787499000@meditationinsantabarbara.org
SUMMARY:Foundation Program
DESCRIPTION:“Everyone\, whether religious or non-religious\, is looking for happiness all the time and wants to be free from problems and suffering permanently. We can fulfill these wishes through understanding and practicing the instructions given in this book.” – Venerable Geshe Kelsang Gyatso \nThis Class is by enrollment only
URL:https://meditationinsantabarbara.org/event/foundation-program-6/2026-08-23/
LOCATION:Mahakankala Kadampa Buddhist Center\, 1825 State Street Suite 202\, Santa Barbara\, CA\, 93101\, United States
CATEGORIES:Public
GEO:34.4294947;-119.7132928
X-APPLE-STRUCTURED-LOCATION;VALUE=URI;X-ADDRESS=Mahakankala Kadampa Buddhist Center 1825 State Street Suite 202 Santa Barbara CA 93101 United States;X-APPLE-RADIUS=500;X-TITLE=1825 State Street Suite 202:geo:-119.7132928,34.4294947
END:VEVENT
BEGIN:VEVENT
DTSTART;TZID=America/Los_Angeles:20260824T170000
DTEND;TZID=America/Los_Angeles:20260824T180000
DTSTAMP:20260423T153547
CREATED:20251223T193854Z
LAST-MODIFIED:20260120T145928Z
UID:10004689-1787590800-1787594400@meditationinsantabarbara.org
SUMMARY:Heart Jewel Prayers
DESCRIPTION:Join us In Person \nIf you enjoy meditating with others\, chanted meditations are a great opportunity to engage in group meditation. These chanted meditations are also known in Sanskrit as pujas\, meaning offering; and the prayers we recite are sadhanas\, meaning methods for receiving attainments. \nOur prayers are in English. We request the blessings\, protection and guidance of the holy beings. We can make requests for ourselves or for others who need help or protection. These spiritual practices create a strong connection with the Buddhas\, and help us purify our negativity and fill our mind with positive\, healing energy. \nHeart Jewel puja includes a period of silence for meditation. By relying upon this practice\, we can purify negativity\, accumulate merit\, and receive blessings. In this way\, we will naturally accomplish all the realizations of the stages of the path to Enlightenment and attain a very special Dharma wisdom. \nAll chanted prayers are free.
URL:https://meditationinsantabarbara.org/event/heart-jewel-prayers-7/2026-08-24/
LOCATION:Mahakankala Kadampa Buddhist Center\, 1825 State Street Suite 202\, Santa Barbara\, CA\, 93101\, United States
CATEGORIES:Chanted Prayers,Public
GEO:34.4294947;-119.7132928
X-APPLE-STRUCTURED-LOCATION;VALUE=URI;X-ADDRESS=Mahakankala Kadampa Buddhist Center 1825 State Street Suite 202 Santa Barbara CA 93101 United States;X-APPLE-RADIUS=500;X-TITLE=1825 State Street Suite 202:geo:-119.7132928,34.4294947
END:VEVENT
BEGIN:VEVENT
DTSTART;TZID=America/Los_Angeles:20260830T110000
DTEND;TZID=America/Los_Angeles:20260830T120000
DTSTAMP:20260423T153547
CREATED:20260120T145629Z
LAST-MODIFIED:20260303T041314Z
UID:10004643-1788087600-1788091200@meditationinsantabarbara.org
SUMMARY:Sunday Morning Meditation Class
DESCRIPTION:Each Sunday morning class begins with a guided breathing meditation and Dharma talk\, and culminates with a second meditation based upon the morning’s topic. Perfect for beginners or those with meditation experience. Open to everyone. \nPlease arrive a few minutes early to settle.
URL:https://meditationinsantabarbara.org/event/sunday-morning-meditation-class-10/2026-08-30/
LOCATION:Mahakankala Kadampa Buddhist Center\, 1825 State Street Suite 202\, Santa Barbara\, CA\, 93101\, United States
CATEGORIES:Public
GEO:34.4294947;-119.7132928
X-APPLE-STRUCTURED-LOCATION;VALUE=URI;X-ADDRESS=Mahakankala Kadampa Buddhist Center 1825 State Street Suite 202 Santa Barbara CA 93101 United States;X-APPLE-RADIUS=500;X-TITLE=1825 State Street Suite 202:geo:-119.7132928,34.4294947
END:VEVENT
BEGIN:VEVENT
DTSTART;TZID=America/Los_Angeles:20260830T133000
DTEND;TZID=America/Los_Angeles:20260830T153000
DTSTAMP:20260423T153547
CREATED:20260120T151253Z
LAST-MODIFIED:20260303T041941Z
UID:10004803-1788096600-1788103800@meditationinsantabarbara.org
SUMMARY:Foundation Program
DESCRIPTION:“Everyone\, whether religious or non-religious\, is looking for happiness all the time and wants to be free from problems and suffering permanently. We can fulfill these wishes through understanding and practicing the instructions given in this book.” – Venerable Geshe Kelsang Gyatso \nThis Class is by enrollment only
URL:https://meditationinsantabarbara.org/event/foundation-program-6/2026-08-30/
LOCATION:Mahakankala Kadampa Buddhist Center\, 1825 State Street Suite 202\, Santa Barbara\, CA\, 93101\, United States
CATEGORIES:Public
GEO:34.4294947;-119.7132928
X-APPLE-STRUCTURED-LOCATION;VALUE=URI;X-ADDRESS=Mahakankala Kadampa Buddhist Center 1825 State Street Suite 202 Santa Barbara CA 93101 United States;X-APPLE-RADIUS=500;X-TITLE=1825 State Street Suite 202:geo:-119.7132928,34.4294947
END:VEVENT
BEGIN:VEVENT
DTSTART;TZID=America/Los_Angeles:20260831T170000
DTEND;TZID=America/Los_Angeles:20260831T180000
DTSTAMP:20260423T153547
CREATED:20251223T193854Z
LAST-MODIFIED:20260120T145928Z
UID:10004690-1788195600-1788199200@meditationinsantabarbara.org
SUMMARY:Heart Jewel Prayers
DESCRIPTION:Join us In Person \nIf you enjoy meditating with others\, chanted meditations are a great opportunity to engage in group meditation. These chanted meditations are also known in Sanskrit as pujas\, meaning offering; and the prayers we recite are sadhanas\, meaning methods for receiving attainments. \nOur prayers are in English. We request the blessings\, protection and guidance of the holy beings. We can make requests for ourselves or for others who need help or protection. These spiritual practices create a strong connection with the Buddhas\, and help us purify our negativity and fill our mind with positive\, healing energy. \nHeart Jewel puja includes a period of silence for meditation. By relying upon this practice\, we can purify negativity\, accumulate merit\, and receive blessings. In this way\, we will naturally accomplish all the realizations of the stages of the path to Enlightenment and attain a very special Dharma wisdom. \nAll chanted prayers are free.
URL:https://meditationinsantabarbara.org/event/heart-jewel-prayers-7/2026-08-31/
LOCATION:Mahakankala Kadampa Buddhist Center\, 1825 State Street Suite 202\, Santa Barbara\, CA\, 93101\, United States
CATEGORIES:Chanted Prayers,Public
GEO:34.4294947;-119.7132928
X-APPLE-STRUCTURED-LOCATION;VALUE=URI;X-ADDRESS=Mahakankala Kadampa Buddhist Center 1825 State Street Suite 202 Santa Barbara CA 93101 United States;X-APPLE-RADIUS=500;X-TITLE=1825 State Street Suite 202:geo:-119.7132928,34.4294947
END:VEVENT
END:VCALENDAR