BEGIN:VCALENDAR
VERSION:2.0
PRODID:-// - ECPv6.15.20//NONSGML v1.0//EN
CALSCALE:GREGORIAN
METHOD:PUBLISH
X-ORIGINAL-URL:https://meditationinsantabarbara.org
X-WR-CALDESC:Events for 
REFRESH-INTERVAL;VALUE=DURATION:PT1H
X-Robots-Tag:noindex
X-PUBLISHED-TTL:PT1H
BEGIN:VTIMEZONE
TZID:America/Los_Angeles
BEGIN:DAYLIGHT
TZOFFSETFROM:-0800
TZOFFSETTO:-0700
TZNAME:PDT
DTSTART:20230312T100000
END:DAYLIGHT
BEGIN:STANDARD
TZOFFSETFROM:-0700
TZOFFSETTO:-0800
TZNAME:PST
DTSTART:20231105T090000
END:STANDARD
BEGIN:DAYLIGHT
TZOFFSETFROM:-0800
TZOFFSETTO:-0700
TZNAME:PDT
DTSTART:20240310T100000
END:DAYLIGHT
BEGIN:STANDARD
TZOFFSETFROM:-0700
TZOFFSETTO:-0800
TZNAME:PST
DTSTART:20241103T090000
END:STANDARD
BEGIN:DAYLIGHT
TZOFFSETFROM:-0800
TZOFFSETTO:-0700
TZNAME:PDT
DTSTART:20250309T100000
END:DAYLIGHT
BEGIN:STANDARD
TZOFFSETFROM:-0700
TZOFFSETTO:-0800
TZNAME:PST
DTSTART:20251102T090000
END:STANDARD
END:VTIMEZONE
BEGIN:VEVENT
DTSTART;TZID=America/Los_Angeles:20241108T170000
DTEND;TZID=America/Los_Angeles:20241108T181500
DTSTAMP:20260425T075600
CREATED:20240907T164503Z
LAST-MODIFIED:20240907T164846Z
UID:10002994-1731085200-1731089700@meditationinsantabarbara.org
SUMMARY:Wishfulfilling Jewel Prayers w/ Offerings
DESCRIPTION:By relying upon this practice\, we can purify negativity\, accumulate merit\, and receive blessings. \nIf you enjoy meditating with others\, chanted meditations are a great opportunity to engage in group meditation. These chanted meditations are also known in Sanskrit as puja\, meaning offering\, or as sadhana\, meaning method for receiving attainments. \nUsing prayers in English\, we receive the blessings\, protection and guidance of holy beings. We can make requests for ourselves or for others who need help or protection. These spiritual practices create a strong connection with the Buddhas\, help us purify our negativity\, and fill our mind with positive\, healing energy. \nIn this way\, we will naturally accomplish all the realizations of the stages of the path to Enlightenment and attain a very special Dharma wisdom. \nAll chanted prayers are free.
URL:https://meditationinsantabarbara.org/event/wishfulfilling-jewel-prayers-w-offerings-4/2024-11-08/
LOCATION:Mahakankala Kadampa Buddhist Center\, 1825 State Street Suite 202\, Santa Barbara\, CA\, 93101\, United States
CATEGORIES:Chanted Prayers,Public
GEO:34.4294947;-119.7132928
X-APPLE-STRUCTURED-LOCATION;VALUE=URI;X-ADDRESS=Mahakankala Kadampa Buddhist Center 1825 State Street Suite 202 Santa Barbara CA 93101 United States;X-APPLE-RADIUS=500;X-TITLE=1825 State Street Suite 202:geo:-119.7132928,34.4294947
END:VEVENT
BEGIN:VEVENT
DTSTART;TZID=America/Los_Angeles:20241108T183000
DTEND;TZID=America/Los_Angeles:20241108T191500
DTSTAMP:20260425T075600
CREATED:20240906T043339Z
LAST-MODIFIED:20240914T001124Z
UID:10002921-1731090600-1731093300@meditationinsantabarbara.org
SUMMARY:Tara Prayers
DESCRIPTION:  \nThe Tara Puja Liberation from Sorrow includes a special prayer composed by Buddha\, Praises to the Twenty-one Taras. Tara is a manifestation of the ultimate wisdom of all Buddhas. Each of the twenty-one distinct Taras is a manifestation of the principal Green Tara\, also known as Mother of the Conquerors. \nMother\nAs children we turn to our mother for help and guidance. She protects us from immediate dangers\, provides us with all our temporal needs\, and guides and encourages us in our learning and personal development. In the same way\, during our spiritual growth\, we need to turn to our Holy Mother\, Tara\, for refuge. She protects us from all internal and external dangers\, provides us with all the necessary conditions for our spiritual training\, and guides us and inspires us with her blessings as we progress along the spiritual path. \nRescuer\nTara means Rescuer. She is so called because she rescues us from the eight outer fears of lions\, elephants\, fire\, snakes\, thieves\, water\, bondage and evil spirits; and from the eight corresponding inner fears of pride\, ignorance\, anger\, jealousy\, wrong views\, attachment\, miserliness and deluded doubts. Temporarily\, Tara saves us from the dangers of rebirth in the three lower realms and ultimately saves us from the dangers of samsara and solitary peace. \nProtector\nIf we rely upon Mother Tara sincerely and with strong faith\, she will protect us from all obstacles and fulfill all our wishes. Since she is a wisdom Buddha\, and since she is a manifestation of the completely purified wind element\, Tara is able to help us very quickly. If we recite the twenty-one verses of praise we shall receive inconceivable benefits. These praises are very powerful because they are Sutra\, the actual words of Buddha. It is good to recite them as often as we can. \nAll chanted prayer practices are free of charge\, but donations are always welcome!
URL:https://meditationinsantabarbara.org/event/tara-prayers-2/
LOCATION:Mahakankala Kadampa Buddhist Center\, 1825 State Street Suite 202\, Santa Barbara\, CA\, 93101\, United States
CATEGORIES:Chanted Prayers,Public
GEO:34.4294947;-119.7132928
X-APPLE-STRUCTURED-LOCATION;VALUE=URI;X-ADDRESS=Mahakankala Kadampa Buddhist Center 1825 State Street Suite 202 Santa Barbara CA 93101 United States;X-APPLE-RADIUS=500;X-TITLE=1825 State Street Suite 202:geo:-119.7132928,34.4294947
END:VEVENT
END:VCALENDAR