BEGIN:VCALENDAR
VERSION:2.0
PRODID:-// - ECPv6.15.20//NONSGML v1.0//EN
CALSCALE:GREGORIAN
METHOD:PUBLISH
X-ORIGINAL-URL:https://meditationinsantabarbara.org
X-WR-CALDESC:Events for 
REFRESH-INTERVAL;VALUE=DURATION:PT1H
X-Robots-Tag:noindex
X-PUBLISHED-TTL:PT1H
BEGIN:VTIMEZONE
TZID:America/Los_Angeles
BEGIN:DAYLIGHT
TZOFFSETFROM:-0800
TZOFFSETTO:-0700
TZNAME:PDT
DTSTART:20230312T100000
END:DAYLIGHT
BEGIN:STANDARD
TZOFFSETFROM:-0700
TZOFFSETTO:-0800
TZNAME:PST
DTSTART:20231105T090000
END:STANDARD
BEGIN:DAYLIGHT
TZOFFSETFROM:-0800
TZOFFSETTO:-0700
TZNAME:PDT
DTSTART:20240310T100000
END:DAYLIGHT
BEGIN:STANDARD
TZOFFSETFROM:-0700
TZOFFSETTO:-0800
TZNAME:PST
DTSTART:20241103T090000
END:STANDARD
BEGIN:DAYLIGHT
TZOFFSETFROM:-0800
TZOFFSETTO:-0700
TZNAME:PDT
DTSTART:20250309T100000
END:DAYLIGHT
BEGIN:STANDARD
TZOFFSETFROM:-0700
TZOFFSETTO:-0800
TZNAME:PST
DTSTART:20251102T090000
END:STANDARD
END:VTIMEZONE
BEGIN:VEVENT
DTSTART;TZID=America/Los_Angeles:20240929T103000
DTEND;TZID=America/Los_Angeles:20240929T111500
DTSTAMP:20260425T093654
CREATED:20240424T183055Z
LAST-MODIFIED:20240906T041358Z
UID:10002608-1727605800-1727608500@meditationinsantabarbara.org
SUMMARY:Prayers for World Peace
DESCRIPTION:Prayers for cultivating inner peace is the best method for establishing world peace. Thirty minutes of meaningful contemplation using prayers in English\, turning our minds towards the happiness and freedom of every living being. \nStay after for personal quiet meditation.
URL:https://meditationinsantabarbara.org/event/prayers-for-world-peace-2/2024-09-29/
LOCATION:Mahakankala Kadampa Buddhist Center\, 1825 State Street Suite 202\, Santa Barbara\, CA\, 93101\, United States
CATEGORIES:Chanted Prayers,Public
GEO:34.4294947;-119.7132928
X-APPLE-STRUCTURED-LOCATION;VALUE=URI;X-ADDRESS=Mahakankala Kadampa Buddhist Center 1825 State Street Suite 202 Santa Barbara CA 93101 United States;X-APPLE-RADIUS=500;X-TITLE=1825 State Street Suite 202:geo:-119.7132928,34.4294947
END:VEVENT
BEGIN:VEVENT
DTSTART;TZID=America/Los_Angeles:20240929T150000
DTEND;TZID=America/Los_Angeles:20240929T183000
DTSTAMP:20260425T093654
CREATED:20240621T230720Z
LAST-MODIFIED:20240907T161643Z
UID:10002753-1727622000-1727634600@meditationinsantabarbara.org
SUMMARY:Melodious Drum Puja
DESCRIPTION:  \n\n\n\n \n  \nThis extensive sadhana or “ritual prayers for spiritual attainments” is called Melodious Drum Victorious in All Directions\, or Kangso in Tibetan\, which means “Fulfilling and Restoring Ritual”. \nUsually performed once a month in Dharma Centers in our tradition\, it is used for fulfilling our heart commitment to practice Lamrim\, Lojong\, and Mahamudra\, for restoring any degenerate or broken commitments we may have incurred\, and to rely on the Dharma Protector Dorje Shugden\, regarding him as inseparable from our Spiritual Guide and Buddha. \nAll chanted prayers are free\, and everyone is welcome to attend.
URL:https://meditationinsantabarbara.org/event/long-protector-puja-5/
LOCATION:Mahakankala Kadampa Buddhist Center\, 1825 State Street Suite 202\, Santa Barbara\, CA\, 93101\, United States
CATEGORIES:Chanted Prayers,Public
GEO:34.4294947;-119.7132928
X-APPLE-STRUCTURED-LOCATION;VALUE=URI;X-ADDRESS=Mahakankala Kadampa Buddhist Center 1825 State Street Suite 202 Santa Barbara CA 93101 United States;X-APPLE-RADIUS=500;X-TITLE=1825 State Street Suite 202:geo:-119.7132928,34.4294947
END:VEVENT
END:VCALENDAR