BEGIN:VCALENDAR
VERSION:2.0
PRODID:-// - ECPv6.15.20//NONSGML v1.0//EN
CALSCALE:GREGORIAN
METHOD:PUBLISH
X-ORIGINAL-URL:https://meditationinsantabarbara.org
X-WR-CALDESC:Events for 
REFRESH-INTERVAL;VALUE=DURATION:PT1H
X-Robots-Tag:noindex
X-PUBLISHED-TTL:PT1H
BEGIN:VTIMEZONE
TZID:America/Los_Angeles
BEGIN:DAYLIGHT
TZOFFSETFROM:-0800
TZOFFSETTO:-0700
TZNAME:PDT
DTSTART:20250309T100000
END:DAYLIGHT
BEGIN:STANDARD
TZOFFSETFROM:-0700
TZOFFSETTO:-0800
TZNAME:PST
DTSTART:20251102T090000
END:STANDARD
BEGIN:DAYLIGHT
TZOFFSETFROM:-0800
TZOFFSETTO:-0700
TZNAME:PDT
DTSTART:20260308T100000
END:DAYLIGHT
BEGIN:STANDARD
TZOFFSETFROM:-0700
TZOFFSETTO:-0800
TZNAME:PST
DTSTART:20261101T090000
END:STANDARD
BEGIN:DAYLIGHT
TZOFFSETFROM:-0800
TZOFFSETTO:-0700
TZNAME:PDT
DTSTART:20270314T100000
END:DAYLIGHT
BEGIN:STANDARD
TZOFFSETFROM:-0700
TZOFFSETTO:-0800
TZNAME:PST
DTSTART:20271107T090000
END:STANDARD
END:VTIMEZONE
BEGIN:VEVENT
DTSTART;TZID=America/Los_Angeles:20260604T170000
DTEND;TZID=America/Los_Angeles:20260604T203000
DTSTAMP:20260423T140108
CREATED:20260422T234631Z
LAST-MODIFIED:20260422T234741Z
UID:10004824-1780592400-1780605000@meditationinsantabarbara.org
SUMMARY:Turning the Wheel of Dharma Day: Offering to the Spiritual Guide Prayers
DESCRIPTION:   \n  \nEveryone is welcome to join us for this beautiful prayer practice\, celebrating Buddha’s first turning of the Wheel of Dharma (Dharmachakra Day) and the birthday of our beloved Spiritual Guide\, Venerable Geshe Kelsang Gyatso Rinpoche. \n\nOffering to the Spiritual Guide is a special Guru yoga of Je Tsongkhapa in conjunction with Highest Yoga Tantra. It was compiled by the first Panchen Lama\, Losang Chökyi Gyaltsän\, as a preliminary practice for Vajrayana Mahamudra. The main practice is relying upon the Spiritual Guide\, but it also includes all the essential practices of the stages of the path (Lamrim) and training the mind (Lojong)\, as well as both the generation stage and completion stage of Highest Yoga Tantra. \nWe have prayer booklets in English for use during the practice. It is traditional to bring a small offering of food or drink for this practice.
URL:https://meditationinsantabarbara.org/event/dharmachakra-day-offering-to-the-spiritual-guide-prayers-2/
LOCATION:Mahakankala Kadampa Buddhist Center\, 1825 State Street Suite 202\, Santa Barbara\, CA\, 93101\, United States
CATEGORIES:Chanted Prayers,Public
GEO:34.4294947;-119.7132928
X-APPLE-STRUCTURED-LOCATION;VALUE=URI;X-ADDRESS=Mahakankala Kadampa Buddhist Center 1825 State Street Suite 202 Santa Barbara CA 93101 United States;X-APPLE-RADIUS=500;X-TITLE=1825 State Street Suite 202:geo:-119.7132928,34.4294947
END:VEVENT
END:VCALENDAR