BEGIN:VCALENDAR
VERSION:2.0
PRODID:-// - ECPv6.15.20//NONSGML v1.0//EN
CALSCALE:GREGORIAN
METHOD:PUBLISH
X-ORIGINAL-URL:https://meditationinsantabarbara.org
X-WR-CALDESC:Events for 
REFRESH-INTERVAL;VALUE=DURATION:PT1H
X-Robots-Tag:noindex
X-PUBLISHED-TTL:PT1H
BEGIN:VTIMEZONE
TZID:America/Los_Angeles
BEGIN:DAYLIGHT
TZOFFSETFROM:-0800
TZOFFSETTO:-0700
TZNAME:PDT
DTSTART:20250309T100000
END:DAYLIGHT
BEGIN:STANDARD
TZOFFSETFROM:-0700
TZOFFSETTO:-0800
TZNAME:PST
DTSTART:20251102T090000
END:STANDARD
BEGIN:DAYLIGHT
TZOFFSETFROM:-0800
TZOFFSETTO:-0700
TZNAME:PDT
DTSTART:20260308T100000
END:DAYLIGHT
BEGIN:STANDARD
TZOFFSETFROM:-0700
TZOFFSETTO:-0800
TZNAME:PST
DTSTART:20261101T090000
END:STANDARD
BEGIN:DAYLIGHT
TZOFFSETFROM:-0800
TZOFFSETTO:-0700
TZNAME:PDT
DTSTART:20270314T100000
END:DAYLIGHT
BEGIN:STANDARD
TZOFFSETFROM:-0700
TZOFFSETTO:-0800
TZNAME:PST
DTSTART:20271107T090000
END:STANDARD
END:VTIMEZONE
BEGIN:VEVENT
DTSTART;TZID=America/Los_Angeles:20260421T123000
DTEND;TZID=America/Los_Angeles:20260421T130000
DTSTAMP:20260423T121738
CREATED:20251229T011901Z
LAST-MODIFIED:20251229T012017Z
UID:10004457-1776774600-1776776400@meditationinsantabarbara.org
SUMMARY:Lunchtime Guided Meditation
DESCRIPTION:Simply breathe. Relieve stress. Find peace.\n  \nOur Lunchtime Meditations are great for beginners and experienced meditators. Drop in any Tuesday at 12:30 for 30 minutes of peaceful meditation. \nCost per class: $5
URL:https://meditationinsantabarbara.org/event/lunchtime-guided-meditation-6/2026-04-21/
LOCATION:Mahakankala Kadampa Buddhist Center\, 1825 State Street Suite 202\, Santa Barbara\, CA\, 93101\, United States
CATEGORIES:Lunchtime,Public
GEO:34.4294947;-119.7132928
X-APPLE-STRUCTURED-LOCATION;VALUE=URI;X-ADDRESS=Mahakankala Kadampa Buddhist Center 1825 State Street Suite 202 Santa Barbara CA 93101 United States;X-APPLE-RADIUS=500;X-TITLE=1825 State Street Suite 202:geo:-119.7132928,34.4294947
END:VEVENT
BEGIN:VEVENT
DTSTART;TZID=America/Los_Angeles:20260421T170000
DTEND;TZID=America/Los_Angeles:20260421T180000
DTSTAMP:20260423T121738
CREATED:20251229T012055Z
LAST-MODIFIED:20260303T040449Z
UID:10004504-1776790800-1776794400@meditationinsantabarbara.org
SUMMARY:Heart Jewel Prayers
DESCRIPTION:Join us In Person \nIf you enjoy meditating with others\, chanted meditations are a great opportunity to engage in group meditation. These chanted meditations are also known in Sanskrit as pujas\, meaning offering; and the prayers we recite are sadhanas\, meaning methods for receiving attainments. \nOur prayers are in English. We request the blessings\, protection and guidance of the holy beings. We can make requests for ourselves or for others who need help or protection. These spiritual practices create a strong connection with the Buddhas\, and help us purify our negativity and fill our mind with positive\, healing energy. \nHeart Jewel puja includes a period of silence for meditation. By relying upon this practice\, we can purify negativity\, accumulate merit\, and receive blessings. In this way\, we will naturally accomplish all the realizations of the stages of the path to Enlightenment and attain a very special Dharma wisdom. \nAll chanted prayers are free.
URL:https://meditationinsantabarbara.org/event/heart-jewel-prayers-8/2026-04-21/
LOCATION:Mahakankala Kadampa Buddhist Center\, 1825 State Street Suite 202\, Santa Barbara\, CA\, 93101\, United States
CATEGORIES:Chanted Prayers,Public
GEO:34.4294947;-119.7132928
X-APPLE-STRUCTURED-LOCATION;VALUE=URI;X-ADDRESS=Mahakankala Kadampa Buddhist Center 1825 State Street Suite 202 Santa Barbara CA 93101 United States;X-APPLE-RADIUS=500;X-TITLE=1825 State Street Suite 202:geo:-119.7132928,34.4294947
END:VEVENT
END:VCALENDAR