BEGIN:VCALENDAR
VERSION:2.0
PRODID:-// - ECPv6.15.20//NONSGML v1.0//EN
CALSCALE:GREGORIAN
METHOD:PUBLISH
X-ORIGINAL-URL:https://meditationinsantabarbara.org
X-WR-CALDESC:Events for 
REFRESH-INTERVAL;VALUE=DURATION:PT1H
X-Robots-Tag:noindex
X-PUBLISHED-TTL:PT1H
BEGIN:VTIMEZONE
TZID:America/Los_Angeles
BEGIN:DAYLIGHT
TZOFFSETFROM:-0800
TZOFFSETTO:-0700
TZNAME:PDT
DTSTART:20250309T100000
END:DAYLIGHT
BEGIN:STANDARD
TZOFFSETFROM:-0700
TZOFFSETTO:-0800
TZNAME:PST
DTSTART:20251102T090000
END:STANDARD
BEGIN:DAYLIGHT
TZOFFSETFROM:-0800
TZOFFSETTO:-0700
TZNAME:PDT
DTSTART:20260308T100000
END:DAYLIGHT
BEGIN:STANDARD
TZOFFSETFROM:-0700
TZOFFSETTO:-0800
TZNAME:PST
DTSTART:20261101T090000
END:STANDARD
BEGIN:DAYLIGHT
TZOFFSETFROM:-0800
TZOFFSETTO:-0700
TZNAME:PDT
DTSTART:20270314T100000
END:DAYLIGHT
BEGIN:STANDARD
TZOFFSETFROM:-0700
TZOFFSETTO:-0800
TZNAME:PST
DTSTART:20271107T090000
END:STANDARD
END:VTIMEZONE
BEGIN:VEVENT
DTSTART;TZID=America/Los_Angeles:20260118T103000
DTEND;TZID=America/Los_Angeles:20260118T110000
DTSTAMP:20260423T173957
CREATED:20251229T011713Z
LAST-MODIFIED:20260303T041831Z
UID:10004381-1768732200-1768734000@meditationinsantabarbara.org
SUMMARY:Prayers for World Peace
DESCRIPTION:Cultivating inner peace by learning to cherish others is the best method for establishing world peace. Thirty minutes of meaningful contemplation using prayers in English\, turning our minds towards the happiness and freedom of every living being. \nStay after for a guided meditation class.
URL:https://meditationinsantabarbara.org/event/prayers-for-world-peace-7/2026-01-18/
LOCATION:Mahakankala Kadampa Buddhist Center\, 1825 State Street Suite 202\, Santa Barbara\, CA\, 93101\, United States
CATEGORIES:Chanted Prayers,Public
GEO:34.4294947;-119.7132928
X-APPLE-STRUCTURED-LOCATION;VALUE=URI;X-ADDRESS=Mahakankala Kadampa Buddhist Center 1825 State Street Suite 202 Santa Barbara CA 93101 United States;X-APPLE-RADIUS=500;X-TITLE=1825 State Street Suite 202:geo:-119.7132928,34.4294947
END:VEVENT
BEGIN:VEVENT
DTSTART;TZID=America/Los_Angeles:20260118T110000
DTEND;TZID=America/Los_Angeles:20260118T120000
DTSTAMP:20260423T173957
CREATED:20251223T192212Z
LAST-MODIFIED:20251223T192300Z
UID:10004251-1768734000-1768737600@meditationinsantabarbara.org
SUMMARY:Sunday Morning Meditation Class
DESCRIPTION:January Series: Finding Opportunity in Adversity \nIn this series we will learn how to transform adversity into the path can help reduce anxiety and lead to inner protection through spiritual experience. By gaining familiarity with this practice\, we can eventually become fearless like bodhisattvas\, whose main concern is for the welfare of others. \nEach Sunday morning class begins with a guided breathing meditation and Dharma talk\, and culminates with a second meditation based upon the morning’s topic. Perfect for beginners or those with meditation experience. Open to everyone. \nPlease arrive a few minutes early to settle. \nTopics in January\nJanuary 4th Distinguishing Inner and Outer Problems\nSeptember 3\nJanuary 11th Adversity Encourages us to Purifying Negative Karma\nJanuary 18th Adversity Encourages us to Seek Liberation\nJanuary 25th Aversity Encourages us to Develop Compassion
URL:https://meditationinsantabarbara.org/event/sunday-morning-meditation-class-9-2/2026-01-18/
LOCATION:Mahakankala Kadampa Buddhist Center\, 1825 State Street Suite 202\, Santa Barbara\, CA\, 93101\, United States
CATEGORIES:Public
ATTACH;FMTTYPE=image/png:https://meditationinsantabarbara.org/wp-content/uploads/2025/12/16x9-Thumbnail-15.png
GEO:34.4294947;-119.7132928
X-APPLE-STRUCTURED-LOCATION;VALUE=URI;X-ADDRESS=Mahakankala Kadampa Buddhist Center 1825 State Street Suite 202 Santa Barbara CA 93101 United States;X-APPLE-RADIUS=500;X-TITLE=1825 State Street Suite 202:geo:-119.7132928,34.4294947
END:VEVENT
BEGIN:VEVENT
DTSTART;TZID=America/Los_Angeles:20260118T133000
DTEND;TZID=America/Los_Angeles:20260118T163000
DTSTAMP:20260423T173957
CREATED:20251231T231207Z
LAST-MODIFIED:20251231T231208Z
UID:10004517-1768743000-1768753800@meditationinsantabarbara.org
SUMMARY:Learn to Meditate Workshop
DESCRIPTION:If our mind is peaceful\, we will be free from worries and mental discomfort\, and so we will experience true happiness; but if our mind is not peaceful\, we will find it very difficult to be happy\, even if we are living in the very best conditions. \nIf we train in meditation\, our mind will gradually become more and more peaceful\, and we will experience a purer and purer form of happiness. Eventually\, we will be able to stay happy all the time\, even in the most difficult circumstances. In this workshop we will learn how to meditate and develop a regular meditation practice. Everyone Welcome! \nSchedule\n1:30-2:45pm: Session One\n3:15-4:30pm: Session Two \nCost: $25 (membership discounts apply)
URL:https://meditationinsantabarbara.org/event/learn-to-meditate-workshop/
LOCATION:Mahakankala Kadampa Buddhist Center\, 1825 State Street Suite 202\, Santa Barbara\, CA\, 93101\, United States
ATTACH;FMTTYPE=image/png:https://meditationinsantabarbara.org/wp-content/uploads/2025/12/16x9-Website-3.png
GEO:34.4294947;-119.7132928
X-APPLE-STRUCTURED-LOCATION;VALUE=URI;X-ADDRESS=Mahakankala Kadampa Buddhist Center 1825 State Street Suite 202 Santa Barbara CA 93101 United States;X-APPLE-RADIUS=500;X-TITLE=1825 State Street Suite 202:geo:-119.7132928,34.4294947
END:VEVENT
END:VCALENDAR