BEGIN:VCALENDAR
VERSION:2.0
PRODID:-// - ECPv6.15.20//NONSGML v1.0//EN
CALSCALE:GREGORIAN
METHOD:PUBLISH
X-ORIGINAL-URL:https://meditationinsantabarbara.org
X-WR-CALDESC:Events for 
REFRESH-INTERVAL;VALUE=DURATION:PT1H
X-Robots-Tag:noindex
X-PUBLISHED-TTL:PT1H
BEGIN:VTIMEZONE
TZID:America/Los_Angeles
BEGIN:DAYLIGHT
TZOFFSETFROM:-0800
TZOFFSETTO:-0700
TZNAME:PDT
DTSTART:20240310T100000
END:DAYLIGHT
BEGIN:STANDARD
TZOFFSETFROM:-0700
TZOFFSETTO:-0800
TZNAME:PST
DTSTART:20241103T090000
END:STANDARD
BEGIN:DAYLIGHT
TZOFFSETFROM:-0800
TZOFFSETTO:-0700
TZNAME:PDT
DTSTART:20250309T100000
END:DAYLIGHT
BEGIN:STANDARD
TZOFFSETFROM:-0700
TZOFFSETTO:-0800
TZNAME:PST
DTSTART:20251102T090000
END:STANDARD
BEGIN:DAYLIGHT
TZOFFSETFROM:-0800
TZOFFSETTO:-0700
TZNAME:PDT
DTSTART:20260308T100000
END:DAYLIGHT
BEGIN:STANDARD
TZOFFSETFROM:-0700
TZOFFSETTO:-0800
TZNAME:PST
DTSTART:20261101T090000
END:STANDARD
END:VTIMEZONE
BEGIN:VEVENT
DTSTART;VALUE=DATE:20251003
DTEND;VALUE=DATE:20251010
DTSTAMP:20260424T065107
CREATED:20250321T193728Z
LAST-MODIFIED:20250321T194052Z
UID:10003695-1759449600-1760054399@meditationinsantabarbara.org
SUMMARY:International Kadampa Fall Festival at IKRC Grand Canyon
DESCRIPTION:
URL:https://meditationinsantabarbara.org/event/intl-kadampa-fall-festival/
LOCATION:Mahakankala Kadampa Buddhist Center\, 1825 State Street Suite 202\, Santa Barbara\, CA\, 93101\, United States
CATEGORIES:Public
GEO:34.4294947;-119.7132928
X-APPLE-STRUCTURED-LOCATION;VALUE=URI;X-ADDRESS=Mahakankala Kadampa Buddhist Center 1825 State Street Suite 202 Santa Barbara CA 93101 United States;X-APPLE-RADIUS=500;X-TITLE=1825 State Street Suite 202:geo:-119.7132928,34.4294947
END:VEVENT
END:VCALENDAR