BEGIN:VCALENDAR
VERSION:2.0
PRODID:-// - ECPv6.15.20//NONSGML v1.0//EN
CALSCALE:GREGORIAN
METHOD:PUBLISH
X-ORIGINAL-URL:https://meditationinsantabarbara.org
X-WR-CALDESC:Events for 
REFRESH-INTERVAL;VALUE=DURATION:PT1H
X-Robots-Tag:noindex
X-PUBLISHED-TTL:PT1H
BEGIN:VTIMEZONE
TZID:America/Los_Angeles
BEGIN:DAYLIGHT
TZOFFSETFROM:-0800
TZOFFSETTO:-0700
TZNAME:PDT
DTSTART:20230312T100000
END:DAYLIGHT
BEGIN:STANDARD
TZOFFSETFROM:-0700
TZOFFSETTO:-0800
TZNAME:PST
DTSTART:20231105T090000
END:STANDARD
BEGIN:DAYLIGHT
TZOFFSETFROM:-0800
TZOFFSETTO:-0700
TZNAME:PDT
DTSTART:20240310T100000
END:DAYLIGHT
BEGIN:STANDARD
TZOFFSETFROM:-0700
TZOFFSETTO:-0800
TZNAME:PST
DTSTART:20241103T090000
END:STANDARD
BEGIN:DAYLIGHT
TZOFFSETFROM:-0800
TZOFFSETTO:-0700
TZNAME:PDT
DTSTART:20250309T100000
END:DAYLIGHT
BEGIN:STANDARD
TZOFFSETFROM:-0700
TZOFFSETTO:-0800
TZNAME:PST
DTSTART:20251102T090000
END:STANDARD
END:VTIMEZONE
BEGIN:VEVENT
DTSTART;TZID=America/Los_Angeles:20241231T183000
DTEND;TZID=America/Los_Angeles:20241231T194500
DTSTAMP:20260425T061059
CREATED:20241020T212039Z
LAST-MODIFIED:20241210T044251Z
UID:10003201-1735669800-1735674300@meditationinsantabarbara.org
SUMMARY:Alternative New Year's Eve
DESCRIPTION:  \nJoin us for a quiet evening in. Reflect on the year ending\, and set your sights on new beginnings. Our Resident Teacher\, Kadam Keli\, will guide us in contemplation and meditation. \nFree of charge. Donations welcome. \n 
URL:https://meditationinsantabarbara.org/event/alternative-new-years-eve/
LOCATION:Mahakankala Kadampa Buddhist Center\, 1825 State Street Suite 202\, Santa Barbara\, CA\, 93101\, United States
CATEGORIES:Public
GEO:34.4294947;-119.7132928
X-APPLE-STRUCTURED-LOCATION;VALUE=URI;X-ADDRESS=Mahakankala Kadampa Buddhist Center 1825 State Street Suite 202 Santa Barbara CA 93101 United States;X-APPLE-RADIUS=500;X-TITLE=1825 State Street Suite 202:geo:-119.7132928,34.4294947
END:VEVENT
END:VCALENDAR