BEGIN:VCALENDAR
VERSION:2.0
PRODID:-// - ECPv6.15.20//NONSGML v1.0//EN
CALSCALE:GREGORIAN
METHOD:PUBLISH
X-ORIGINAL-URL:https://meditationinsantabarbara.org
X-WR-CALDESC:Events for 
REFRESH-INTERVAL;VALUE=DURATION:PT1H
X-Robots-Tag:noindex
X-PUBLISHED-TTL:PT1H
BEGIN:VTIMEZONE
TZID:America/Los_Angeles
BEGIN:DAYLIGHT
TZOFFSETFROM:-0800
TZOFFSETTO:-0700
TZNAME:PDT
DTSTART:20230312T100000
END:DAYLIGHT
BEGIN:STANDARD
TZOFFSETFROM:-0700
TZOFFSETTO:-0800
TZNAME:PST
DTSTART:20231105T090000
END:STANDARD
BEGIN:DAYLIGHT
TZOFFSETFROM:-0800
TZOFFSETTO:-0700
TZNAME:PDT
DTSTART:20240310T100000
END:DAYLIGHT
BEGIN:STANDARD
TZOFFSETFROM:-0700
TZOFFSETTO:-0800
TZNAME:PST
DTSTART:20241103T090000
END:STANDARD
BEGIN:DAYLIGHT
TZOFFSETFROM:-0800
TZOFFSETTO:-0700
TZNAME:PDT
DTSTART:20250309T100000
END:DAYLIGHT
BEGIN:STANDARD
TZOFFSETFROM:-0700
TZOFFSETTO:-0800
TZNAME:PST
DTSTART:20251102T090000
END:STANDARD
END:VTIMEZONE
BEGIN:VEVENT
DTSTART;TZID=America/Los_Angeles:20241024T183000
DTEND;TZID=America/Los_Angeles:20241024T200000
DTSTAMP:20260425T144104
CREATED:20240907T174042Z
LAST-MODIFIED:20240907T184559Z
UID:10002999-1729794600-1729800000@meditationinsantabarbara.org
SUMMARY:Meditation for Creating a Pure World - A Pop-up Class
DESCRIPTION:In this special Thursday evening class we will learn a meditation to reduce our attachment to our body – making the inner mandala offering. The source of this practice is the text Great Treasury of Merit by Venerable Geshe Kelsang Gyatso Rinpoche. \nMandala means universe. When we make mandala offerings\, we imagine we are offering a completely pure universe to all Buddhas. The mental action of mandala offering is a very powerful cause of spiritual realizations and good fortune in general. The secret ingredients – meditation on the emptiness of all things\, and our own generation of the minds of giving\, compassion for all living beings\, and faith in enlightened beings. \nThis drop-in class is suitable for newcomers to the practice of meditation and Buddhism\, and is particularly suitable for students who wish to engage in the Guru Yoga Mandala Offering sessions in the day retreat on Saturday\, October 26 – Offering A Pure World Day Retreat.\n \nOffering a Pure World Day Retreat Schedule \nSession 1 9:00-10:30am\nSession 2 11:00am-12:30pm\nSession 3 2:00-3:30pm\nSession 4 4:00-5:30pm
URL:https://meditationinsantabarbara.org/event/meditation-for-creating-a-pure-world/
LOCATION:Mahakankala Kadampa Buddhist Center\, 1825 State Street Suite 202\, Santa Barbara\, CA\, 93101\, United States
CATEGORIES:Public
GEO:34.4294947;-119.7132928
X-APPLE-STRUCTURED-LOCATION;VALUE=URI;X-ADDRESS=Mahakankala Kadampa Buddhist Center 1825 State Street Suite 202 Santa Barbara CA 93101 United States;X-APPLE-RADIUS=500;X-TITLE=1825 State Street Suite 202:geo:-119.7132928,34.4294947
END:VEVENT
END:VCALENDAR