BEGIN:VCALENDAR
VERSION:2.0
PRODID:-// - ECPv6.15.20//NONSGML v1.0//EN
CALSCALE:GREGORIAN
METHOD:PUBLISH
X-ORIGINAL-URL:https://meditationinsantabarbara.org
X-WR-CALDESC:Events for 
REFRESH-INTERVAL;VALUE=DURATION:PT1H
X-Robots-Tag:noindex
X-PUBLISHED-TTL:PT1H
BEGIN:VTIMEZONE
TZID:America/Los_Angeles
BEGIN:DAYLIGHT
TZOFFSETFROM:-0800
TZOFFSETTO:-0700
TZNAME:PDT
DTSTART:20230312T100000
END:DAYLIGHT
BEGIN:STANDARD
TZOFFSETFROM:-0700
TZOFFSETTO:-0800
TZNAME:PST
DTSTART:20231105T090000
END:STANDARD
BEGIN:DAYLIGHT
TZOFFSETFROM:-0800
TZOFFSETTO:-0700
TZNAME:PDT
DTSTART:20240310T100000
END:DAYLIGHT
BEGIN:STANDARD
TZOFFSETFROM:-0700
TZOFFSETTO:-0800
TZNAME:PST
DTSTART:20241103T090000
END:STANDARD
BEGIN:DAYLIGHT
TZOFFSETFROM:-0800
TZOFFSETTO:-0700
TZNAME:PDT
DTSTART:20250309T100000
END:DAYLIGHT
BEGIN:STANDARD
TZOFFSETFROM:-0700
TZOFFSETTO:-0800
TZNAME:PST
DTSTART:20251102T090000
END:STANDARD
END:VTIMEZONE
BEGIN:VEVENT
DTSTART;VALUE=DATE:20240920
DTEND;VALUE=DATE:20240926
DTSTAMP:20260425T202932
CREATED:20240423T190257Z
LAST-MODIFIED:20240823T050926Z
UID:10002597-1726790400-1727308799@meditationinsantabarbara.org
SUMMARY:Kadampa U.S. Festival at IKRC Grand Canyon
DESCRIPTION:Join us at the Kadampa Temple for World Peace in Northern Arizona. This special week-long event is also available online! \nAbout the Teachings\nFear and anxiety plague our world. As we deal with everything from minor insecurities and social anxiety to concerns about major world events\, it’s hard to find a sense of safety and tranquility. Even worse\, our fears often stop us from doing what’s right for ourselves and others. During this US Festival we will discover how to develop a spiritual power by relying on Buddha Vajrapani that will help us break out of this fearful state into a courageous\, empowered attitude. We will also learn how to harness the five forces\, a special inner tool\, to bring about radical\, positive change in our life. \nBuddha Vajrapani is the Buddha of spiritual power. With the development of spiritual power we possess the confidence\, inner strength and skill not only to take on and defeat our own delusions\, but to be of great benefit in helping free others from their delusions as well. Nothing could be more meaningful. \nThe empowerment is a beautiful and inspiring guided meditation and ritual in which we are introduced to Buddha Vajrapani from whom we then receive many blessings\, adding great power to our own practice as well as sowing seeds for our future attainment of enlightenment. \nClick here to see the schedule
URL:https://meditationinsantabarbara.org/event/kadampa-u-s-festival-at-ikrc-grand-canyon/
LOCATION:International Kadampa Retreat Center Grand Canyon\, 6701 Mountain Ranch Resort Dr\, Williams\, AZ\, 86046\, United States
CATEGORIES:Public
ORGANIZER;CN="Kadampa Festivals":MAILTO:fallinfo@kadampafestivals.org
END:VEVENT
BEGIN:VEVENT
DTSTART;TZID=America/Los_Angeles:20240923T170000
DTEND;TZID=America/Los_Angeles:20240923T180000
DTSTAMP:20260425T202932
CREATED:20240622T202147Z
LAST-MODIFIED:20241210T053611Z
UID:10001286-1727110800-1727114400@meditationinsantabarbara.org
SUMMARY:Heart Jewel Prayers w/ Meditation
DESCRIPTION:Join us In Person \nIf you enjoy meditating with others\, chanted meditations are a great opportunity to engage in group meditation. These chanted meditations are also known in Sanskrit as pujas\, meaning offering; and the prayers we recite are sadhanas\, meaning methods for receiving attainments. \nOur prayers are in English. We request the blessings\, protection and guidance of the holy beings. We can make requests for ourselves or for others who need help or protection. These spiritual practices create a strong connection with the Buddhas\, and help us purify our negativity and fill our mind with positive\, healing energy. \nHeart Jewel puja includes a period of silence for meditation. By relying upon this practice\, we can purify negativity\, accumulate merit\, and receive blessings. In this way\, we will naturally accomplish all the realizations of the stages of the path to Enlightenment and attain a very special Dharma wisdom. \nAll chanted prayers are free.
URL:https://meditationinsantabarbara.org/event/heart-jewel-prayers-w-meditation-2024-05-06-2/2024-09-23/
LOCATION:Mahakankala Kadampa Buddhist Center\, 1825 State Street Suite 202\, Santa Barbara\, CA\, 93101\, United States
CATEGORIES:Chanted Prayers,Public
GEO:34.4294947;-119.7132928
X-APPLE-STRUCTURED-LOCATION;VALUE=URI;X-ADDRESS=Mahakankala Kadampa Buddhist Center 1825 State Street Suite 202 Santa Barbara CA 93101 United States;X-APPLE-RADIUS=500;X-TITLE=1825 State Street Suite 202:geo:-119.7132928,34.4294947
END:VEVENT
BEGIN:VEVENT
DTSTART;TZID=America/Los_Angeles:20240923T183000
DTEND;TZID=America/Los_Angeles:20240923T193000
DTSTAMP:20260425T202932
CREATED:20240602T193535Z
LAST-MODIFIED:20250523T023816Z
UID:10002715-1727116200-1727119800@meditationinsantabarbara.org
SUMMARY:Guided Lamrim Meditation Live + Zoom
DESCRIPTION:  \nLearn the most essential teachings of Mahayana Buddhism as we meditate together on most Monday evenings. Please check our web calendar to confirm class meetings. \nEach class begins with a guided breathing meditation\, preparatory prayers\, and culminates with a second meditation based upon the topic of the evening. Drop in to any or all classes in this course. Perfect for beginners or those with meditation experience. \nAbout the Class \nLamrim is a special presentation of Buddhist teachings that modern people can practice in their daily lives. Lamrim originated with the Indian Buddhist Master Atisha\, and was later clarified by Tibetan Master and scholar Je Tsongkhapa. \nOur Founder\, Venerable Geshe Kelsang Gyatso Rinpoche\, makes Lamrim even more accessible for modern people in his books\, which appear in many languages. These are the texts we use in the class for our Lamrim meditations. \n  \nPlease arrive five minutes early to settle\, either in person or on zoom. \n(Zoom access is available with a monthly membership.) \nMembership: Class included with Online\, GP\, FP and Benefactor Memberships. Contact us to join. \n 
URL:https://meditationinsantabarbara.org/event/guided-lamrim-meditation-live-zoom-2/2024-09-23/
LOCATION:Mahakankala Kadampa Buddhist Center\, 1825 State Street Suite 202\, Santa Barbara\, CA\, 93101\, United States
CATEGORIES:Public
GEO:34.4294947;-119.7132928
X-APPLE-STRUCTURED-LOCATION;VALUE=URI;X-ADDRESS=Mahakankala Kadampa Buddhist Center 1825 State Street Suite 202 Santa Barbara CA 93101 United States;X-APPLE-RADIUS=500;X-TITLE=1825 State Street Suite 202:geo:-119.7132928,34.4294947
END:VEVENT
END:VCALENDAR